Workbook

Sheet Podsumowanie
A1: Rok | B1: Imię i Nazwisko | F1: Stanowisko | I1: Wymiar chorobowego | K1: Wymiar dzienny | M1: Wymiar urlopu
A2: 2020 | B2: miesiąc | C2: Wymiar miesiąc | D2: Czas Pracy | E2: Czas przepracowany w godzinach | I2: Czas nieobecności w pracy w dniach lub godzinach
D3: Ilość dni | E3: Niedziela i święta | F3: W dodatk. dni wolne | G3: W porze nocnej | H3: W godz. nadliczbowych | I3: Uw | J3: Uwż | K3: Uok | L3: Ub | M3: Op | N3: L4 | O3: Inne ….........
B4: styczeń | C4: =G23 -> 0 | D4: =styczen!E35/L1 -> #DIV/0! | E4: =styczen!$F$35 -> 0 | F4: =styczen!G35 -> 0 | G4: =styczen!H35 -> 0 | H4: =styczen!I35 -> 0 | I4: =styczen!J35 -> 0 | J4: =styczen!K35 -> 0 | K4: =styczen!L35 -> 0 | L4: =styczen!M35 -> 0 | M4: =styczen!N35 -> 0 | ... O4: =styczen!P35 -> 0
B5: luty | C5: =G24 -> 0 | D5: =luty!E35/L1 -> #DIV/0! | E5: =luty!$F$35 -> 0 | F5: =luty!G35 -> 0 | G5: =luty!H35 -> 0 | H5: =luty!I35 -> 0 | I5: =luty!J35 -> 0 | J5: =luty!K35 -> 0 | K5: =luty!L35 -> 0 | L5: =luty!M35 -> 0 | M5: =luty!N35 -> 0 | ... O5: =luty!P35 -> 0
B6: marzec | C6: =G25 -> 0 | D6: =marzec!E35/L1 -> #DIV/0! | E6: =marzec!F35 -> 0 | F6: =marzec!G35 -> 0 | G6: =marzec!H35 -> 0 | H6: =marzec!I35 -> 0 | I6: =marzec!J35 -> 0 | J6: =marzec!K35 -> 0 | K6: =marzec!L35 -> 0 | L6: =marzec!M35 -> 0 | ... O6: =marzec!P35 -> 0
B7: kwiecień | C7: =G26 -> 0 | D7: =kwiecień!E35/L1 -> #DIV/0! | E7: =kwiecień!F35 -> 0 | F7: =kwiecień!G35 -> 0 | G7: =kwiecień!H35 -> 0 | H7: =kwiecień!I35 -> 0 | I7: =kwiecień!J35 -> 0 | J7: =kwiecień!K35 -> 0 | K7: =kwiecień!L35 -> 0 | L7: =kwiecień!M35 -> 0 | ... O7: =kwiecień!P35 -> 0
B8: maj | C8: =G27 -> 0 | D8: =maj!E35/L1 -> #DIV/0! | E8: =maj!F35 -> 0 | F8: =maj!G35 -> 0 | G8: =maj!H35 -> 0 | H8: =maj!I35 -> 0 | I8: =maj!J35 -> 0 | J8: =maj!K35 -> 0 | K8: =maj!L35 -> 0 | L8: =maj!M35 -> 0 | ... O8: =maj!P35 -> 0
B9: czerwiec | C9: =G28 -> 0 | D9: =czerwiec!E35/L1 -> #DIV/0! | E9: =czerwiec!F35 -> 0 | F9: =czerwiec!G35 -> 0 | G9: =czerwiec!H35 -> 0 | H9: =czerwiec!I35 -> 0 | I9: =czerwiec!J35 -> 0 | J9: =czerwiec!K35 -> 0 | K9: =czerwiec!L35 -> 0 | L9: =czerwiec!M35 -> 0 | ... O9: =czerwiec!P35 -> 0
B10: lipiec | C10: =G29 -> 0 | D10: =lipiec!E35/L1 -> #DIV/0! | E10: =lipiec!F35 -> 0 | F10: =lipiec!G35 -> 0 | G10: =lipiec!H35 -> 0 | H10: =lipiec!I35 -> 0 | I10: =lipiec!J35 -> 20 | J10: =lipiec!K35 -> 0 | K10: =lipiec!L35 -> 0 | L10: =lipiec!M35 -> 0 | ... O10: =lipiec!P35 -> 0
B11: sierpień | C11: =G30 -> 0 | D11: =sierpień!E35/L1 -> #DIV/0! | E11: =sierpień!F35 -> 0 | F11: =sierpień!G35 -> 0 | G11: =sierpień!H35 -> 0 | H11: =sierpień!I35 -> 0 | I11: =sierpień!J35 -> 0 | J11: =sierpień!K35 -> 0 | K11: =sierpień!L35 -> 0 | L11: =sierpień!M35 -> 0 | ... O11: =sierpień!P35 -> 0
B12: wrzesień | C12: =G31 -> 0 | D12: =wrzesień!E35/L1 -> #DIV/0! | E12: =wrzesień!F35 -> 0 | F12: =wrzesień!G35 -> 0 | G12: =wrzesień!H35 -> 0 | H12: =wrzesień!I35 -> 0 | I12: =wrzesień!J35 -> 0 | J12: =wrzesień!K35 -> 0 | K12: =wrzesień!L35 -> 0 | L12: =wrzesień!M35 -> 0 | ... O12: =wrzesień!P35 -> 0
B13: październik | C13: =G32 -> 0 | D13: =październik!E35/L1 -> #DIV/0! | E13: =październik!F35 -> 0 | F13: =październik!G35 -> 0 | G13: =październik!H35 -> 0 | H13: =październik!I35 -> 0 | I13: =październik!J35 -> 0 | J13: =październik!K35 -> 0 | K13: =październik!L35 -> 0 | L13: =październik!M35 -> 0 | ... O13: =październik!P35 -> 0
B14: listopad | C14: =G33 -> 0 | D14: =listopad!E35/L1 -> #DIV/0! | E14: =listopad!F35 -> 0 | F14: =listopad!G35 -> 0 | G14: =listopad!H35 -> 0 | H14: =listopad!I35 -> 0 | I14: =listopad!J35 -> 0 | J14: =listopad!K35 -> 0 | K14: =listopad!L35 -> 0 | L14: =listopad!M35 -> 0 | ... O14: =listopad!P35 -> 0
B15: grudzień | C15: =G34 -> 0 | D15: =grudzień!E35/L1 -> #DIV/0! | E15: =grudzień!F35 -> 0 | F15: =grudzień!G35 -> 0 | G15: =grudzień!H35 -> 0 | H15: =grudzień!I35 -> 0 | I15: =grudzień!J35 -> 0 | J15: =grudzień!K35 -> 0 | K15: =grudzień!L35 -> 0 | L15: =grudzień!M35 -> 0 | ... O15: =grudzień!P35 -> 0
B16: Razem | C16: =SUM(C5:C15) -> 0 | D16: =SUM(D4:D15) -> #DIV/0! | E16: =SUM(E4:E15) -> 0 | F16: =SUM(F4:F15) -> 0 | G16: =SUM(G4:G15) -> 0 | H16: =SUM(H4:H15) -> 0 | I16: =SUM(I4:I15) -> 20 | J16: =SUM(J4:J15) -> 0 | K16: =SUM(K4:K15) -> 0 | ... O16: =SUM(O4:O15) -> 0
A17: Uw - Urlop wypoczynkowy, Uwż - Urlop wypoczynkowy "na żądanie", Uok - Urlop okolicznościowy, Ub - Urlop bezpłatny, Op - Opieka nad dzieckiem, L4- Zwolnienie lekarskie, Dn - Wypłata nadgodzin, Wś - Wolne za pracę w święto, Wn - Wolne za nadgodziny, W5 - Wolne z tytułu 5-dniowego tygodnia pracy, W - Urlop wychowawczy, Um - Urlop macierzyński, ŚR - Świadczenia reabilitacyjne, Śs - Świadek w sądzie, Kr - Oddanie krwi.
D19: Godziny pracy | F19: 0.3125 | G19: 0.64583333
D20: ETAT | F20: 1/1
C22: Miesiąc | E22: Liczba godzin pracujących | G22: Liczba dni pracujących | I22: Liczba dni wolnych od prac | N22: Wielkanoc | O22: =EASTERSUNDAY(A2) -> 43933
C23: styczeń | N23: II Wielkanocy | O23: =O22+1 -> 43934
C24: luty | N24: Boże Ciało | O24: =O22+60 -> 43993
C25: marzec
C26: kwiecień
C27: maj
C28: czerwiec
C29: lipiec
C30: sierpień
C31: wrzesień
C32: październik
C33: listopad
C34: grudzień
A37: Urlop zaległy za rok
A38: Godziny nadliczbowe po przekroczeniu

Sheet styczen
A1: Rok | B1: =Podsumowanie!A2 -> 2020 | D1: Miesiąc | E1: Styczeń | G1: Imię i Nazwisko | I1: =Podsumowanie!D1 -> 0 | L1: Stanowisko | M1: =Podsumowanie!G1 -> 0 | O1: Wymiar czasu pracy
A2: Oznaczenie dni | C2: Czas Pracy | F2: Czas przepracowany w godzinach | J2: Czas nieobecności w pracy w dniach | Q2: Uwagi
A3: Dzień miesiąca | B3: Dzień tygodnia | C3: Godzina rozpoczęcia | D3: Godzina zakończenia | E3: Ilość godzin | F3: Niedziela i święta | G3: W dodatk. dni wolne | H3: W porze nocnej | I3: W godz. nadliczbowych | J3: Uw | K3: Uwż | L3: Uok | M3: Ub | N3: Op | O3: L4 | P3: Inne ….........
A4: 1 | B4: =DATE($B$1,IF($E$1="styczeń",1),A4) -> 43831 | C4: Święto | D4: Święto | E4: =IF(C4=Podsumowanie!$F$19,D4-C4,SUM(F4:I4)) -> 0
A5: 2 | B5: =DATE($B$1,IF($E$1="styczeń",1),A5) -> 43832 | C5: =IF(O5=1,"L4",IF(N5=1,"Op",IF(M5=1,"Ub",IF(L5=1,"Uok",IF(K5=1,"Uwż",IF(J5=1,"Uw",IF(P5=1,$P$3,IF(WEEKDAY(B5)=7,"W5",IF(WEEKDAY(B5)=1,"W5",Podsumowanie!F19))))))))) -> 0.3125 | D5: =IF(O5=1,"L4",IF(N5=1,"Op",IF(M5=1,"Ub",IF(L5=1,"Uok",IF(K5=1,"Uwż",IF(J5=1,"Uw",IF(P5=1,$P$3,IF(WEEKDAY(B5)=7,"W5",IF(WEEKDAY(B5)=1,"W5",Podsumowanie!G19+F5+G5+H5+I5))))))))) -> 0.64583333 | E5: =IF(C5=Podsumowanie!$F$19,D5-C5,SUM(F5:I5)) -> 0.33333333
A6: 3 | B6: =DATE($B$1,IF($E$1="styczeń",1),A6) -> 43833 | C6: =IF(O6=1,"L4",IF(N6=1,"Op",IF(M6=1,"Ub",IF(L6=1,"Uok",IF(K6=1,"Uwż",IF(J6=1,"Uw",IF(P6=1,$P$3,IF (WEEKDAY(B4)=7,"DWŚ",IF(WEEKDAY(B6)=7,"W5",IF(WEEKDAY(B6)=1,"W5",Podsumowanie!F19)))))))))) -> 0.3125 | D6: =IF(O6=1,"L4",IF(N6=1,"Op",IF(M6=1,"Ub",IF(L6=1,"Uok",IF(K6=1,"Uwż",IF(J6=1,"Uw",IF(P6=1,$P$3,IF (WEEKDAY(B4)=7,"DWŚ",IF(WEEKDAY(B6)=7,"W5",IF(WEEKDAY(B6)=1,"W5",Podsumowanie!G19++F6+G6+H6+I6)))))))))) -> 0.64583333 | E6: =IF(C6=Podsumowanie!$F$19,D6-C6,SUM(F6:I6)) -> 0.33333333
A7: 4 | B7: =DATE($B$1,IF($E$1="styczeń",1),A7) -> 43834 | C7: =IF(O7=1,"L4",IF(N7=1,"Op",IF(M7=1,"Ub",IF(L7=1,"Uok",IF(K7=1,"Uwż",IF(J7=1,"Uw",IF(P7=1,$P$3,IF(WEEKDAY(B7)=7,"W5",IF(WEEKDAY(B7)=1,"W5",Podsumowanie!F19))))))))) -> W5 | D7: =IF(O7=1,"L4",IF(N7=1,"Op",IF(M7=1,"Ub",IF(L7=1,"Uok",IF(K7=1,"Uwż",IF(J7=1,"Uw",IF(P7=1,$P$3,IF(WEEKDAY(B7)=7,"W5",IF(WEEKDAY(B7)=1,"W5",Podsumowanie!G19+F7+G7+H7+I7))))))))) -> W5 | E7: =IF(C7=Podsumowanie!$F$19,D7-C7,SUM(F7:I7)) -> 0
A8: 5 | B8: =DATE($B$1,IF($E$1="styczeń",1),A8) -> 43835 | C8: =IF(O8=1,"L4",IF(N8=1,"Op",IF(M8=1,"Ub",IF(L8=1,"Uok",IF(K8=1,"Uwż",IF(J8=1,"Uw",IF(P8=1,$P$3,IF (WEEKDAY(B9)=7,"DWŚ",IF(WEEKDAY(B8)=7,"W5",IF(WEEKDAY(B8)=1,"W5",Podsumowanie!F19)))))))))) -> W5 | D8: =IF(O8=1,"L4",IF(N8=1,"Op",IF(M8=1,"Ub",IF(L8=1,"Uok",IF(K8=1,"Uwż",IF(J8=1,"Uw",IF(P8=1,$P$3,IF (WEEKDAY(B9)=7,"DWŚ" ,IF(WEEKDAY(B8)=7,"W5",IF(WEEKDAY(B8)=1,"W5",Podsumowanie!G19+F8+G8+H8+I8)))))))))) -> W5 | E8: =IF(C8=Podsumowanie!$F$19,D8-C8,SUM(F8:I8)) -> 0
A9: 6 | B9: =DATE($B$1,IF($E$1="styczeń",1),A9) -> 43836 | C9: Święto | D9: Święto | E9: =IF(C9=Podsumowanie!$F$19,D9-C9,SUM(F9:I9)) -> 0
A10: 7 | B10: =DATE($B$1,IF($E$1="styczeń",1),A10) -> 43837 | C10: =IF(O10=1,"L4",IF(N10=1,"Op",IF(M10=1,"Ub",IF(L10=1,"Uok",IF(K10=1,"Uwż",IF(J10=1,"Uw",IF(P10=1,$P$3,IF(WEEKDAY(B10)=7,"W5",IF(WEEKDAY(B10)=1,"W5",Podsumowanie!$F$19))))))))) -> 0.3125 | D10: =IF(O10=1,"L4",IF(N10=1,"Op",IF(M10=1,"Ub",IF(L10=1,"Uok",IF(K10=1,"Uwż",IF(J10=1,"Uw",IF(P10=1,$P$3,IF(WEEKDAY(B10)=7,"W5",IF(WEEKDAY(B10)=1,"W5",Podsumowanie!$G$19+F10+G10+H10+I10))))))))) -> 0.64583333 | E10: =IF(C10=Podsumowanie!$F$19,D10-C10,SUM(F10:I10)) -> 0.33333333
A11: 8 | B11: =DATE($B$1,IF($E$1="styczeń",1),A11) -> 43838 | C11: =IF(O11=1,"L4",IF(N11=1,"Op",IF(M11=1,"Ub",IF(L11=1,"Uok",IF(K11=1,"Uwż",IF(J11=1,"Uw",IF(P11=1,$P$3,IF(WEEKDAY(B11)=7,"W5",IF(WEEKDAY(B11)=1,"W5",Podsumowanie!$F$19))))))))) -> 0.3125 | D11: =IF(O11=1,"L4",IF(N11=1,"Op",IF(M11=1,"Ub",IF(L11=1,"Uok",IF(K11=1,"Uwż",IF(J11=1,"Uw",IF(P11=1,$P$3,IF(WEEKDAY(B11)=7,"W5",IF(WEEKDAY(B11)=1,"W5",Podsumowanie!$G$19+F11+G11+H11+I11))))))))) -> 0.64583333 | E11: =IF(C11=Podsumowanie!$F$19,D11-C11,SUM(F11:I11)) -> 0.33333333
A12: 9 | B12: =DATE($B$1,IF($E$1="styczeń",1),A12) -> 43839 | C12: =IF(O12=1,"L4",IF(N12=1,"Op",IF(M12=1,"Ub",IF(L12=1,"Uok",IF(K12=1,"Uwż",IF(J12=1,"Uw",IF(P12=1,$P$3,IF(WEEKDAY(B12)=7,"W5",IF(WEEKDAY(B12)=1,"W5",Podsumowanie!$F$19))))))))) -> 0.3125 | D12: =IF(O12=1,"L4",IF(N12=1,"Op",IF(M12=1,"Ub",IF(L12=1,"Uok",IF(K12=1,"Uwż",IF(J12=1,"Uw",IF(P12=1,$P$3,IF(WEEKDAY(B12)=7,"W5",IF(WEEKDAY(B12)=1,"W5",Podsumowanie!$G$19+F12+G12+H12+I12))))))))) -> 0.64583333 | E12: =IF(C12=Podsumowanie!$F$19,D12-C12,SUM(F12:I12)) -> 0.33333333
A13: 10 | B13: =DATE($B$1,IF($E$1="styczeń",1),A13) -> 43840 | C13: =IF(O13=1,"L4",IF(N13=1,"Op",IF(M13=1,"Ub",IF(L13=1,"Uok",IF(K13=1,"Uwż",IF(J13=1,"Uw",IF(P13=1,$P$3,IF(WEEKDAY(B13)=7,"W5",IF(WEEKDAY(B13)=1,"W5",Podsumowanie!$F$19))))))))) -> 0.3125 | D13: =IF(O13=1,"L4",IF(N13=1,"Op",IF(M13=1,"Ub",IF(L13=1,"Uok",IF(K13=1,"Uwż",IF(J13=1,"Uw",IF(P13=1,$P$3,IF(WEEKDAY(B13)=7,"W5",IF(WEEKDAY(B13)=1,"W5",Podsumowanie!$G$19+F13+G13+H13+I13))))))))) -> 0.64583333 | E13: =IF(C13=Podsumowanie!$F$19,D13-C13,SUM(F13:I13)) -> 0.33333333
A14: 11 | B14: =DATE($B$1,IF($E$1="styczeń",1),A14) -> 43841 | C14: =IF(O14=1,"L4",IF(N14=1,"Op",IF(M14=1,"Ub",IF(L14=1,"Uok",IF(K14=1,"Uwż",IF(J14=1,"Uw",IF(P14=1,$P$3,IF(WEEKDAY(B14)=7,"W5",IF(WEEKDAY(B14)=1,"W5",Podsumowanie!$F$19))))))))) -> W5 | D14: =IF(O14=1,"L4",IF(N14=1,"Op",IF(M14=1,"Ub",IF(L14=1,"Uok",IF(K14=1,"Uwż",IF(J14=1,"Uw",IF(P14=1,$P$3,IF(WEEKDAY(B14)=7,"W5",IF(WEEKDAY(B14)=1,"W5",Podsumowanie!$G$19+F14+G14+H14+I14))))))))) -> W5 | E14: =IF(C14=Podsumowanie!$F$19,D14-C14,SUM(F14:I14)) -> 0
A15: 12 | B15: =DATE($B$1,IF($E$1="styczeń",1),A15) -> 43842 | C15: =IF(O15=1,"L4",IF(N15=1,"Op",IF(M15=1,"Ub",IF(L15=1,"Uok",IF(K15=1,"Uwż",IF(J15=1,"Uw",IF(P15=1,$P$3,IF(WEEKDAY(B15)=7,"W5",IF(WEEKDAY(B15)=1,"W5",Podsumowanie!$F$19))))))))) -> W5 | D15: =IF(O15=1,"L4",IF(N15=1,"Op",IF(M15=1,"Ub",IF(L15=1,"Uok",IF(K15=1,"Uwż",IF(J15=1,"Uw",IF(P15=1,$P$3,IF(WEEKDAY(B15)=7,"W5",IF(WEEKDAY(B15)=1,"W5",Podsumowanie!$G$19+F15+G15+H15+I15))))))))) -> W5 | E15: =IF(C15=Podsumowanie!$F$19,D15-C15,SUM(F15:I15)) -> 0
A16: 13 | B16: =DATE($B$1,IF($E$1="styczeń",1),A16) -> 43843 | C16: =IF(O16=1,"L4",IF(N16=1,"Op",IF(M16=1,"Ub",IF(L16=1,"Uok",IF(K16=1,"Uwż",IF(J16=1,"Uw",IF(P16=1,$P$3,IF(WEEKDAY(B16)=7,"W5",IF(WEEKDAY(B16)=1,"W5",Podsumowanie!$F$19))))))))) -> 0.3125 | D16: =IF(O16=1,"L4",IF(N16=1,"Op",IF(M16=1,"Ub",IF(L16=1,"Uok",IF(K16=1,"Uwż",IF(J16=1,"Uw",IF(P16=1,$P$3,IF(WEEKDAY(B16)=7,"W5",IF(WEEKDAY(B16)=1,"W5",Podsumowanie!$G$19+F16+G16+H16+I16))))))))) -> 0.64583333 | E16: =IF(C16=Podsumowanie!$F$19,D16-C16,SUM(F16:I16)) -> 0.33333333
A17: 14 | B17: =DATE($B$1,IF($E$1="styczeń",1),A17) -> 43844 | C17: =IF(O17=1,"L4",IF(N17=1,"Op",IF(M17=1,"Ub",IF(L17=1,"Uok",IF(K17=1,"Uwż",IF(J17=1,"Uw",IF(P17=1,$P$3,IF(WEEKDAY(B17)=7,"W5",IF(WEEKDAY(B17)=1,"W5",Podsumowanie!$F$19))))))))) -> 0.3125 | D17: =IF(O17=1,"L4",IF(N17=1,"Op",IF(M17=1,"Ub",IF(L17=1,"Uok",IF(K17=1,"Uwż",IF(J17=1,"Uw",IF(P17=1,$P$3,IF(WEEKDAY(B17)=7,"W5",IF(WEEKDAY(B17)=1,"W5",Podsumowanie!$G$19+F17+G17+H17+I17))))))))) -> 0.64583333 | E17: =IF(C17=Podsumowanie!$F$19,D17-C17,SUM(F17:I17)) -> 0.33333333
A18: 15 | B18: =DATE($B$1,IF($E$1="styczeń",1),A18) -> 43845 | C18: =IF(O18=1,"L4",IF(N18=1,"Op",IF(M18=1,"Ub",IF(L18=1,"Uok",IF(K18=1,"Uwż",IF(J18=1,"Uw",IF(P18=1,$P$3,IF(WEEKDAY(B18)=7,"W5",IF(WEEKDAY(B18)=1,"W5",Podsumowanie!$F$19))))))))) -> 0.3125 | D18: =IF(O18=1,"L4",IF(N18=1,"Op",IF(M18=1,"Ub",IF(L18=1,"Uok",IF(K18=1,"Uwż",IF(J18=1,"Uw",IF(P18=1,$P$3,IF(WEEKDAY(B18)=7,"W5",IF(WEEKDAY(B18)=1,"W5",Podsumowanie!$G$19+F18+G18+H18+I18))))))))) -> 0.64583333 | E18: =IF(C18=Podsumowanie!$F$19,D18-C18,SUM(F18:I18)) -> 0.33333333
A19: 16 | B19: =DATE($B$1,IF($E$1="styczeń",1),A19) -> 43846 | C19: =IF(O19=1,"L4",IF(N19=1,"Op",IF(M19=1,"Ub",IF(L19=1,"Uok",IF(K19=1,"Uwż",IF(J19=1,"Uw",IF(P19=1,$P$3,IF(WEEKDAY(B19)=7,"W5",IF(WEEKDAY(B19)=1,"W5",Podsumowanie!$F$19))))))))) -> 0.3125 | D19: =IF(O19=1,"L4",IF(N19=1,"Op",IF(M19=1,"Ub",IF(L19=1,"Uok",IF(K19=1,"Uwż",IF(J19=1,"Uw",IF(P19=1,$P$3,IF(WEEKDAY(B19)=7,"W5",IF(WEEKDAY(B19)=1,"W5",Podsumowanie!$G$19+F19+G19+H19+I19))))))))) -> 0.64583333 | E19: =IF(C19=Podsumowanie!$F$19,D19-C19,SUM(F19:I19)) -> 0.33333333
A20: 17 | B20: =DATE($B$1,IF($E$1="styczeń",1),A20) -> 43847 | C20: =IF(O20=1,"L4",IF(N20=1,"Op",IF(M20=1,"Ub",IF(L20=1,"Uok",IF(K20=1,"Uwż",IF(J20=1,"Uw",IF(P20=1,$P$3,IF(WEEKDAY(B20)=7,"W5",IF(WEEKDAY(B20)=1,"W5",Podsumowanie!$F$19))))))))) -> 0.3125 | D20: =IF(O20=1,"L4",IF(N20=1,"Op",IF(M20=1,"Ub",IF(L20=1,"Uok",IF(K20=1,"Uwż",IF(J20=1,"Uw",IF(P20=1,$P$3,IF(WEEKDAY(B20)=7,"W5",IF(WEEKDAY(B20)=1,"W5",Podsumowanie!$G$19+F20+G20+H20+I20))))))))) -> 0.64583333 | E20: =IF(C20=Podsumowanie!$F$19,D20-C20,SUM(F20:I20)) -> 0.33333333
A21: 18 | B21: =DATE($B$1,IF($E$1="styczeń",1),A21) -> 43848 | C21: =IF(O21=1,"L4",IF(N21=1,"Op",IF(M21=1,"Ub",IF(L21=1,"Uok",IF(K21=1,"Uwż",IF(J21=1,"Uw",IF(P21=1,$P$3,IF(WEEKDAY(B21)=7,"W5",IF(WEEKDAY(B21)=1,"W5",Podsumowanie!$F$19))))))))) -> W5 | D21: =IF(O21=1,"L4",IF(N21=1,"Op",IF(M21=1,"Ub",IF(L21=1,"Uok",IF(K21=1,"Uwż",IF(J21=1,"Uw",IF(P21=1,$P$3,IF(WEEKDAY(B21)=7,"W5",IF(WEEKDAY(B21)=1,"W5",Podsumowanie!$G$19+F21+G21+H21+I21))))))))) -> W5 | E21: =IF(C21=Podsumowanie!$F$19,D21-C21,SUM(F21:I21)) -> 0
... A34: 31 | B34: =DATE($B$1,IF($E$1="styczeń",1),A34) -> 43861 | C34: =IF(O34=1,"L4",IF(N34=1,"Op",IF(M34=1,"Ub",IF(L34=1,"Uok",IF(K34=1,"Uwż",IF(J34=1,"Uw",IF(P34=1,$P$3,IF(WEEKDAY(B34)=7,"W5",IF(WEEKDAY(B34)=1,"W5",Podsumowanie!$F$19))))))))) -> 0.3125 | D34: =IF(O34=1,"L4",IF(N34=1,"Op",IF(M34=1,"Ub",IF(L34=1,"Uok",IF(K34=1,"Uwż",IF(J34=1,"Uw",IF(P34=1,$P$3,IF(WEEKDAY(B34)=7,"W5",IF(WEEKDAY(B34)=1,"W5",Podsumowanie!$G$19+F34+G34+H34+I34))))))))) -> 0.64583333 | E34: =IF(C34=Podsumowanie!$F$19,D34-C34,SUM(F34:I34)) -> 0.33333333
D35: Razem | E35: =SUM(E4:E34) -> 7 | F35: =SUM(F4:F34) -> 0 | G35: =SUM(G4:G34) -> 0 | H35: =SUM(H4:H34) -> 0 | I35: =SUM(I4:I34) -> 0 | J35: =SUM(J4:J34) -> 0 | K35: =SUM(K4:K34) -> 0 | L35: =SUM(L4:L34) -> 0 | ... P35: =SUM(P4:P34) -> 0
A36: Uw - Urlop wypoczynkowy, Uwż - Urlop wypoczynkowy "na żądanie", Uok - Urlop okolicznościowy, Ub - Urlop bezpłatny, Op - Opieka nad dzieckiem, L4- Zwolnienie lekarskie, Dn - Wypłata nadgodzin, Wś - Wolne za pracę w święto, Wn - Wolne za nadgodziny, W5 - Wolne z tytułu 5-dniowego tygodnia pracy, W - Urlop wychowawczy, Um - Urlop macierzyński, ŚR - Świadczenia reabilitacyjne, Śs - Świadek w sądzie, Kr - Oddanie krwi.
B38: Dzień tygodnia | C38: Godzina rozpoczęcia | D38: Godzina zakończenia | E38: Ilość godzin
E39: 0.33333333

Sheet luty
A1: Rok | B1: =Podsumowanie!A2 -> 2020 | D1: Miesiąc | E1: luty | G1: Imię i Nazwisko | I1: =Podsumowanie!D1 -> 0 | L1: Stanowisko | M1: =Podsumowanie!G1 -> 0 | O1: Wymiar czasu pracy
A2: Oznaczenie dni | C2: Czas Pracy | F2: Czas przepracowany w godzinach | J2: Czas nieobecności w pracy w dniach | Q2: Uwagi
A3: Dzień miesiąca | B3: Dzień tygodnia | C3: Godzina rozpoczęcia | D3: Godzina zakończenia | E3: Ilość godzin | F3: Niedziela i święta | G3: W dodatk. dni wolne | H3: W porze nocnej | I3: W godz. nadliczbowych | J3: Uw | K3: Uwż | L3: Uok | M3: Ub | N3: Op | O3: L4 | P3: Inne ….........
A4: 1 | B4: =DATE($B$1,IF($E$1="luty",2),A4) -> 43862 | C4: =IF(O4=1,"L4",IF(N4=1,"Op",IF(M4=1,"Ub",IF(L4=1,"Uok",IF(K4=1,"Uwż",IF(J4=1,"Uw",IF(P4=1,$P$3,IF(WEEKDAY(B4)=7,"W5",IF(WEEKDAY(B4)=1,"W5",Podsumowanie!$F$19))))))))) -> W5 | D4: =IF(O4=1,"L4",IF(N4=1,"Op",IF(M4=1,"Ub",IF(L4=1,"Uok",IF(K4=1,"Uwż",IF(J4=1,"Uw",IF(P4=1,$P$3,IF(WEEKDAY(B4)=7,"W5",IF(WEEKDAY(B4)=1,"W5",Podsumowanie!$G$19+F4+G4+H4+I4))))))))) -> W5 | E4: =IF(C4=Podsumowanie!$F$19,D4-C4,SUM(F4:I4)) -> 0
A5: 2 | B5: =DATE($B$1,IF($E$1="luty",2),A5) -> 43863 | C5: =IF(O5=1,"L4",IF(N5=1,"Op",IF(M5=1,"Ub",IF(L5=1,"Uok",IF(K5=1,"Uwż",IF(J5=1,"Uw",IF(P5=1,$P$3,IF(WEEKDAY(B5)=7,"W5",IF(WEEKDAY(B5)=1,"W5",Podsumowanie!$F$19))))))))) -> W5 | D5: =IF(O5=1,"L4",IF(N5=1,"Op",IF(M5=1,"Ub",IF(L5=1,"Uok",IF(K5=1,"Uwż",IF(J5=1,"Uw",IF(P5=1,$P$3,IF(WEEKDAY(B5)=7,"W5",IF(WEEKDAY(B5)=1,"W5",Podsumowanie!$G$19+F5+G5+H5+I5))))))))) -> W5 | E5: =IF(C5=Podsumowanie!$F$19,D5-C5,SUM(F5:I5)) -> 0
A6: 3 | B6: =DATE($B$1,IF($E$1="luty",2),A6) -> 43864 | C6: =IF(O6=1,"L4",IF(N6=1,"Op",IF(M6=1,"Ub",IF(L6=1,"Uok",IF(K6=1,"Uwż",IF(J6=1,"Uw",IF(P6=1,$P$3,IF(WEEKDAY(B6)=7,"W5",IF(WEEKDAY(B6)=1,"W5",Podsumowanie!$F$19))))))))) -> 0.3125 | D6: =IF(O6=1,"L4",IF(N6=1,"Op",IF(M6=1,"Ub",IF(L6=1,"Uok",IF(K6=1,"Uwż",IF(J6=1,"Uw",IF(P6=1,$P$3,IF(WEEKDAY(B6)=7,"W5",IF(WEEKDAY(B6)=1,"W5",Podsumowanie!$G$19+F6+G6+H6+I6))))))))) -> 0.64583333 | E6: =IF(C6=Podsumowanie!$F$19,D6-C6,SUM(F6:I6)) -> 0.33333333
A7: 4 | B7: =DATE($B$1,IF($E$1="luty",2),A7) -> 43865 | C7: =IF(O7=1,"L4",IF(N7=1,"Op",IF(M7=1,"Ub",IF(L7=1,"Uok",IF(K7=1,"Uwż",IF(J7=1,"Uw",IF(P7=1,$P$3,IF(WEEKDAY(B7)=7,"W5",IF(WEEKDAY(B7)=1,"W5",Podsumowanie!$F$19))))))))) -> 0.3125 | D7: =IF(O7=1,"L4",IF(N7=1,"Op",IF(M7=1,"Ub",IF(L7=1,"Uok",IF(K7=1,"Uwż",IF(J7=1,"Uw",IF(P7=1,$P$3,IF(WEEKDAY(B7)=7,"W5",IF(WEEKDAY(B7)=1,"W5",Podsumowanie!$G$19+F7+G7+H7+I7))))))))) -> 0.64583333 | E7: =IF(C7=Podsumowanie!$F$19,D7-C7,SUM(F7:I7)) -> 0.33333333
A8: 5 | B8: =DATE($B$1,IF($E$1="luty",2),A8) -> 43866 | C8: =IF(O8=1,"L4",IF(N8=1,"Op",IF(M8=1,"Ub",IF(L8=1,"Uok",IF(K8=1,"Uwż",IF(J8=1,"Uw",IF(P8=1,$P$3,IF(WEEKDAY(B8)=7,"W5",IF(WEEKDAY(B8)=1,"W5",Podsumowanie!$F$19))))))))) -> 0.3125 | D8: =IF(O8=1,"L4",IF(N8=1,"Op",IF(M8=1,"Ub",IF(L8=1,"Uok",IF(K8=1,"Uwż",IF(J8=1,"Uw",IF(P8=1,$P$3,IF(WEEKDAY(B8)=7,"W5",IF(WEEKDAY(B8)=1,"W5",Podsumowanie!$G$19+F8+G8+H8+I8))))))))) -> 0.64583333 | E8: =IF(C8=Podsumowanie!$F$19,D8-C8,SUM(F8:I8)) -> 0.33333333
A9: 6 | B9: =DATE($B$1,IF($E$1="luty",2),A9) -> 43867 | C9: =IF(O9=1,"L4",IF(N9=1,"Op",IF(M9=1,"Ub",IF(L9=1,"Uok",IF(K9=1,"Uwż",IF(J9=1,"Uw",IF(P9=1,$P$3,IF(WEEKDAY(B9)=7,"W5",IF(WEEKDAY(B9)=1,"W5",Podsumowanie!$F$19))))))))) -> 0.3125 | D9: =IF(O9=1,"L4",IF(N9=1,"Op",IF(M9=1,"Ub",IF(L9=1,"Uok",IF(K9=1,"Uwż",IF(J9=1,"Uw",IF(P9=1,$P$3,IF(WEEKDAY(B9)=7,"W5",IF(WEEKDAY(B9)=1,"W5",Podsumowanie!$G$19+F9+G9+H9+I9))))))))) -> 0.64583333 | E9: =IF(C9=Podsumowanie!$F$19,D9-C9,SUM(F9:I9)) -> 0.33333333
A10: 7 | B10: =DATE($B$1,IF($E$1="luty",2),A10) -> 43868 | C10: =IF(O10=1,"L4",IF(N10=1,"Op",IF(M10=1,"Ub",IF(L10=1,"Uok",IF(K10=1,"Uwż",IF(J10=1,"Uw",IF(P10=1,$P$3,IF(WEEKDAY(B10)=7,"W5",IF(WEEKDAY(B10)=1,"W5",Podsumowanie!$F$19))))))))) -> 0.3125 | D10: =IF(O10=1,"L4",IF(N10=1,"Op",IF(M10=1,"Ub",IF(L10=1,"Uok",IF(K10=1,"Uwż",IF(J10=1,"Uw",IF(P10=1,$P$3,IF(WEEKDAY(B10)=7,"W5",IF(WEEKDAY(B10)=1,"W5",Podsumowanie!$G$19+F10+G10+H10+I10))))))))) -> 0.64583333 | E10: =IF(C10=Podsumowanie!$F$19,D10-C10,SUM(F10:I10)) -> 0.33333333
A11: 8 | B11: =DATE($B$1,IF($E$1="luty",2),A11) -> 43869 | C11: =IF(O11=1,"L4",IF(N11=1,"Op",IF(M11=1,"Ub",IF(L11=1,"Uok",IF(K11=1,"Uwż",IF(J11=1,"Uw",IF(P11=1,$P$3,IF(WEEKDAY(B11)=7,"W5",IF(WEEKDAY(B11)=1,"W5",Podsumowanie!$F$19))))))))) -> W5 | D11: =IF(O11=1,"L4",IF(N11=1,"Op",IF(M11=1,"Ub",IF(L11=1,"Uok",IF(K11=1,"Uwż",IF(J11=1,"Uw",IF(P11=1,$P$3,IF(WEEKDAY(B11)=7,"W5",IF(WEEKDAY(B11)=1,"W5",Podsumowanie!$G$19+F11+G11+H11+I11))))))))) -> W5 | E11: =IF(C11=Podsumowanie!$F$19,D11-C11,SUM(F11:I11)) -> 0
A12: 9 | B12: =DATE($B$1,IF($E$1="luty",2),A12) -> 43870 | C12: =IF(O12=1,"L4",IF(N12=1,"Op",IF(M12=1,"Ub",IF(L12=1,"Uok",IF(K12=1,"Uwż",IF(J12=1,"Uw",IF(P12=1,$P$3,IF(WEEKDAY(B12)=7,"W5",IF(WEEKDAY(B12)=1,"W5",Podsumowanie!$F$19))))))))) -> W5 | D12: =IF(O12=1,"L4",IF(N12=1,"Op",IF(M12=1,"Ub",IF(L12=1,"Uok",IF(K12=1,"Uwż",IF(J12=1,"Uw",IF(P12=1,$P$3,IF(WEEKDAY(B12)=7,"W5",IF(WEEKDAY(B12)=1,"W5",Podsumowanie!$G$19+F12+G12+H12+I12))))))))) -> W5 | E12: =IF(C12=Podsumowanie!$F$19,D12-C12,SUM(F12:I12)) -> 0
A13: 10 | B13: =DATE($B$1,IF($E$1="luty",2),A13) -> 43871 | C13: =IF(O13=1,"L4",IF(N13=1,"Op",IF(M13=1,"Ub",IF(L13=1,"Uok",IF(K13=1,"Uwż",IF(J13=1,"Uw",IF(P13=1,$P$3,IF(WEEKDAY(B13)=7,"W5",IF(WEEKDAY(B13)=1,"W5",Podsumowanie!$F$19))))))))) -> 0.3125 | D13: =IF(O13=1,"L4",IF(N13=1,"Op",IF(M13=1,"Ub",IF(L13=1,"Uok",IF(K13=1,"Uwż",IF(J13=1,"Uw",IF(P13=1,$P$3,IF(WEEKDAY(B13)=7,"W5",IF(WEEKDAY(B13)=1,"W5",Podsumowanie!$G$19+F13+G13+H13+I13))))))))) -> 0.64583333 | E13: =IF(C13=Podsumowanie!$F$19,D13-C13,SUM(F13:I13)) -> 0.33333333
A14: 11 | B14: =DATE($B$1,IF($E$1="luty",2),A14) -> 43872 | C14: =IF(O14=1,"L4",IF(N14=1,"Op",IF(M14=1,"Ub",IF(L14=1,"Uok",IF(K14=1,"Uwż",IF(J14=1,"Uw",IF(P14=1,$P$3,IF(WEEKDAY(B14)=7,"W5",IF(WEEKDAY(B14)=1,"W5",Podsumowanie!$F$19))))))))) -> 0.3125 | D14: =IF(O14=1,"L4",IF(N14=1,"Op",IF(M14=1,"Ub",IF(L14=1,"Uok",IF(K14=1,"Uwż",IF(J14=1,"Uw",IF(P14=1,$P$3,IF(WEEKDAY(B14)=7,"W5",IF(WEEKDAY(B14)=1,"W5",Podsumowanie!$G$19+F14+G14+H14+I14))))))))) -> 0.64583333 | E14: =IF(C14=Podsumowanie!$F$19,D14-C14,SUM(F14:I14)) -> 0.33333333
A15: 12 | B15: =DATE($B$1,IF($E$1="luty",2),A15) -> 43873 | C15: =IF(O15=1,"L4",IF(N15=1,"Op",IF(M15=1,"Ub",IF(L15=1,"Uok",IF(K15=1,"Uwż",IF(J15=1,"Uw",IF(P15=1,$P$3,IF(WEEKDAY(B15)=7,"W5",IF(WEEKDAY(B15)=1,"W5",Podsumowanie!$F$19))))))))) -> 0.3125 | D15: =IF(O15=1,"L4",IF(N15=1,"Op",IF(M15=1,"Ub",IF(L15=1,"Uok",IF(K15=1,"Uwż",IF(J15=1,"Uw",IF(P15=1,$P$3,IF(WEEKDAY(B15)=7,"W5",IF(WEEKDAY(B15)=1,"W5",Podsumowanie!$G$19+F15+G15+H15+I15))))))))) -> 0.64583333 | E15: =IF(C15=Podsumowanie!$F$19,D15-C15,SUM(F15:I15)) -> 0.33333333
... A31: 28 | B31: =DATE($B$1,IF($E$1="luty",2),A31) -> 43889 | C31: =IF(O31=1,"L4",IF(N31=1,"Op",IF(M31=1,"Ub",IF(L31=1,"Uok",IF(K31=1,"Uwż",IF(J31=1,"Uw",IF(P31=1,$P$3,IF(WEEKDAY(B31)=7,"W5",IF(WEEKDAY(B31)=1,"W5",Podsumowanie!$F$19))))))))) -> 0.3125 | D31: =IF(O31=1,"L4",IF(N31=1,"Op",IF(M31=1,"Ub",IF(L31=1,"Uok",IF(K31=1,"Uwż",IF(J31=1,"Uw",IF(P31=1,$P$3,IF(WEEKDAY(B31)=7,"W5",IF(WEEKDAY(B31)=1,"W5",Podsumowanie!$G$19+F31+G31+H31+I31))))))))) -> 0.64583333 | E31: =IF(C31=Podsumowanie!$F$19,D31-C31,SUM(F31:I31)) -> 0.33333333
A32: 29 | B32: =IF(B38=1,DATE($B$1,IF($E$1="luty",2),A32),"-") -> 43890 | C32: =IF(B38=0,"-",IF(O32=1,"L4",IF(N32=1,"Op",IF(M32=1,"Ub",IF(L32=1,"Uok",IF(K32=1,"Uwż",IF(J32=1,"Uw",IF(P32=1,$P$3,C31)))))))) -> 0.3125 | D32: =IF(B38=0,"-",IF(O32=1,"L4",IF(N32=1,"Op",IF(M32=1,"Ub",IF(L32=1,"Uok",IF(K32=1,"Uwż",IF(J32=1,"Uw",IF(P32=1,$P$3,D31+F32+G32+H32+I32)))))))) -> 0.64583333 | E32: =IF(C32=Podsumowanie!$F$19,D32-C32,SUM(F32:I32)) -> 0.33333333
A33: 30 | B33: piątek
A34: 31 | B34: sobota
D35: Razem | E35: =SUM(E4:E34) -> 7 | F35: =SUM(F4:F34) -> 0 | G35: =SUM(G4:G34) -> 0 | H35: =SUM(H4:H34) -> 0 | I35: =SUM(I4:I34) -> 0 | J35: =SUM(J4:J34) -> 0 | K35: =SUM(K4:K34) -> 0 | L35: =SUM(L4:L34) -> 0 | ... P35: =SUM(P4:P34) -> 0
A36: Uw - Urlop wypoczynkowy, Uwż - Urlop wypoczynkowy "na żądanie", Uok - Urlop okolicznościowy, Ub - Urlop bezpłatny, Op - Opieka nad dzieckiem, L4- Zwolnienie lekarskie, Dn - Wypłata nadgodzin, Wś - Wolne za pracę w święto, Wn - Wolne za nadgodziny, W5 - Wolne z tytułu 5-dniowego tygodnia pracy, W - Urlop wychowawczy, Um - Urlop macierzyński, ŚR - Świadczenia reabilitacyjne, Śs - Świadek w sądzie, Kr - Oddanie krwi.
B38: =ORG.OPENOFFICE.ISLEAPYEAR(B31) -> 1

Sheet marzec
A1: Rok | B1: =Podsumowanie!A2 -> 2020 | D1: Miesiąc | E1: marzec | G1: Imię i Nazwisko | I1: =Podsumowanie!D1 -> 0 | L1: Stanowisko | M1: =Podsumowanie!G1 -> 0 | O1: Wymiar czasu pracy
A2: Oznaczenie dni | C2: Czas Pracy | F2: Czas przepracowany w godzinach | J2: Czas nieobecności w pracy w dniach | Q2: Uwagi
A3: Dzień miesiąca | B3: Dzień tygodnia | C3: Godzina rozpoczęcia | D3: Godzina zakończenia | E3: Ilość godzin | F3: Niedziela i święta | G3: W dodatk. dni wolne | H3: W porze nocnej | I3: W godz. nadliczbowych | J3: Uw | K3: Uwż | L3: Uok | M3: Ub | N3: Op | O3: L4 | P3: Inne ….........
A4: 1 | B4: =DATE($B$1,IF($E$1="marzec",3),A4) -> 43891 | C4: =IF(O4=1,"L4",IF(N4=1,"Op",IF(M4=1,"Ub",IF(L4=1,"Uok",IF(K4=1,"Uwż",IF(J4=1,"Uw",IF(P4=1,$P$3,IF(EASTERSUNDAY($B$1)=B4,"Wielkanoc",IF(C3="Wielkanoc","Święto",IF(WEEKDAY(B4)=7,"W5",IF(WEEKDAY(B4)=1,"W5",Podsumowanie!$F$19))))))))))) -> W5 | D4: =IF(O4=1,"L4",IF(N4=1,"Op",IF(M4=1,"Ub",IF(L4=1,"Uok",IF(K4=1,"Uwż",IF(J4=1,"Uw",IF(P4=1,$P$3,IF(EASTERSUNDAY($B$1)=B4,"Wielkanoc",IF(C3="Wielkanoc","Święto",IF(WEEKDAY(B4)=7,"W5",IF(WEEKDAY(B4)=1,"W5",Podsumowanie!$G$19+F4+G4+H4+I4))))))))))) -> W5 | E4: =IF(C4=Podsumowanie!$F$19,D4-C4,SUM(F4:I4)) -> 0
A5: 2 | B5: =DATE($B$1,IF($E$1="marzec",3),A5) -> 43892 | C5: =IF(O5=1,"L4",IF(N5=1,"Op",IF(M5=1,"Ub",IF(L5=1,"Uok",IF(K5=1,"Uwż",IF(J5=1,"Uw",IF(P5=1,$P$3,IF(EASTERSUNDAY($B$1)=B5,"Wielkanoc",IF(C4="Wielkanoc","Święto",IF(WEEKDAY(B5)=7,"W5",IF(WEEKDAY(B5)=1,"W5",Podsumowanie!$F$19))))))))))) -> 0.3125 | D5: =IF(O5=1,"L4",IF(N5=1,"Op",IF(M5=1,"Ub",IF(L5=1,"Uok",IF(K5=1,"Uwż",IF(J5=1,"Uw",IF(P5=1,$P$3,IF(EASTERSUNDAY($B$1)=B5,"Wielkanoc",IF(C4="Wielkanoc","Święto",IF(WEEKDAY(B5)=7,"W5",IF(WEEKDAY(B5)=1,"W5",Podsumowanie!$G$19+F5+G5+H5+I5))))))))))) -> 0.64583333 | E5: =IF(C5=Podsumowanie!$F$19,D5-C5,SUM(F5:I5)) -> 0.33333333
A6: 3 | B6: =DATE($B$1,IF($E$1="marzec",3),A6) -> 43893 | C6: =IF(O6=1,"L4",IF(N6=1,"Op",IF(M6=1,"Ub",IF(L6=1,"Uok",IF(K6=1,"Uwż",IF(J6=1,"Uw",IF(P6=1,$P$3,IF(EASTERSUNDAY($B$1)=B6,"Wielkanoc",IF(C5="Wielkanoc","Święto",IF(WEEKDAY(B6)=7,"W5",IF(WEEKDAY(B6)=1,"W5",Podsumowanie!$F$19))))))))))) -> 0.3125 | D6: =IF(O6=1,"L4",IF(N6=1,"Op",IF(M6=1,"Ub",IF(L6=1,"Uok",IF(K6=1,"Uwż",IF(J6=1,"Uw",IF(P6=1,$P$3,IF(EASTERSUNDAY($B$1)=B6,"Wielkanoc",IF(C5="Wielkanoc","Święto",IF(WEEKDAY(B6)=7,"W5",IF(WEEKDAY(B6)=1,"W5",Podsumowanie!$G$19+F6+G6+H6+I6))))))))))) -> 0.64583333 | E6: =IF(C6=Podsumowanie!$F$19,D6-C6,SUM(F6:I6)) -> 0.33333333
A7: 4 | B7: =DATE($B$1,IF($E$1="marzec",3),A7) -> 43894 | C7: =IF(O7=1,"L4",IF(N7=1,"Op",IF(M7=1,"Ub",IF(L7=1,"Uok",IF(K7=1,"Uwż",IF(J7=1,"Uw",IF(P7=1,$P$3,IF(EASTERSUNDAY($B$1)=B7,"Wielkanoc",IF(C6="Wielkanoc","Święto",IF(WEEKDAY(B7)=7,"W5",IF(WEEKDAY(B7)=1,"W5",Podsumowanie!$F$19))))))))))) -> 0.3125 | D7: =IF(O7=1,"L4",IF(N7=1,"Op",IF(M7=1,"Ub",IF(L7=1,"Uok",IF(K7=1,"Uwż",IF(J7=1,"Uw",IF(P7=1,$P$3,IF(EASTERSUNDAY($B$1)=B7,"Wielkanoc",IF(C6="Wielkanoc","Święto",IF(WEEKDAY(B7)=7,"W5",IF(WEEKDAY(B7)=1,"W5",Podsumowanie!$G$19+F7+G7+H7+I7))))))))))) -> 0.64583333 | E7: =IF(C7=Podsumowanie!$F$19,D7-C7,SUM(F7:I7)) -> 0.33333333
A8: 5 | B8: =DATE($B$1,IF($E$1="marzec",3),A8) -> 43895 | C8: =IF(O8=1,"L4",IF(N8=1,"Op",IF(M8=1,"Ub",IF(L8=1,"Uok",IF(K8=1,"Uwż",IF(J8=1,"Uw",IF(P8=1,$P$3,IF(EASTERSUNDAY($B$1)=B8,"Wielkanoc",IF(C7="Wielkanoc","Święto",IF(WEEKDAY(B8)=7,"W5",IF(WEEKDAY(B8)=1,"W5",Podsumowanie!$F$19))))))))))) -> 0.3125 | D8: =IF(O8=1,"L4",IF(N8=1,"Op",IF(M8=1,"Ub",IF(L8=1,"Uok",IF(K8=1,"Uwż",IF(J8=1,"Uw",IF(P8=1,$P$3,IF(EASTERSUNDAY($B$1)=B8,"Wielkanoc",IF(C7="Wielkanoc","Święto",IF(WEEKDAY(B8)=7,"W5",IF(WEEKDAY(B8)=1,"W5",Podsumowanie!$G$19+F8+G8+H8+I8))))))))))) -> 0.64583333 | E8: =IF(C8=Podsumowanie!$F$19,D8-C8,SUM(F8:I8)) -> 0.33333333
A9: 6 | B9: =DATE($B$1,IF($E$1="marzec",3),A9) -> 43896 | C9: =IF(O9=1,"L4",IF(N9=1,"Op",IF(M9=1,"Ub",IF(L9=1,"Uok",IF(K9=1,"Uwż",IF(J9=1,"Uw",IF(P9=1,$P$3,IF(EASTERSUNDAY($B$1)=B9,"Wielkanoc",IF(C8="Wielkanoc","Święto",IF(WEEKDAY(B9)=7,"W5",IF(WEEKDAY(B9)=1,"W5",Podsumowanie!$F$19))))))))))) -> 0.3125 | D9: =IF(O9=1,"L4",IF(N9=1,"Op",IF(M9=1,"Ub",IF(L9=1,"Uok",IF(K9=1,"Uwż",IF(J9=1,"Uw",IF(P9=1,$P$3,IF(EASTERSUNDAY($B$1)=B9,"Wielkanoc",IF(C8="Wielkanoc","Święto",IF(WEEKDAY(B9)=7,"W5",IF(WEEKDAY(B9)=1,"W5",Podsumowanie!$G$19+F9+G9+H9+I9))))))))))) -> 0.64583333 | E9: =IF(C9=Podsumowanie!$F$19,D9-C9,SUM(F9:I9)) -> 0.33333333
A10: 7 | B10: =DATE($B$1,IF($E$1="marzec",3),A10) -> 43897 | C10: =IF(O10=1,"L4",IF(N10=1,"Op",IF(M10=1,"Ub",IF(L10=1,"Uok",IF(K10=1,"Uwż",IF(J10=1,"Uw",IF(P10=1,$P$3,IF(EASTERSUNDAY($B$1)=B10,"Wielkanoc",IF(C9="Wielkanoc","Święto",IF(WEEKDAY(B10)=7,"W5",IF(WEEKDAY(B10)=1,"W5",Podsumowanie!$F$19))))))))))) -> W5 | D10: =IF(O10=1,"L4",IF(N10=1,"Op",IF(M10=1,"Ub",IF(L10=1,"Uok",IF(K10=1,"Uwż",IF(J10=1,"Uw",IF(P10=1,$P$3,IF(EASTERSUNDAY($B$1)=B10,"Wielkanoc",IF(C9="Wielkanoc","Święto",IF(WEEKDAY(B10)=7,"W5",IF(WEEKDAY(B10)=1,"W5",Podsumowanie!$G$19+F10+G10+H10+I10))))))))))) -> W5 | E10: =IF(C10=Podsumowanie!$F$19,D10-C10,SUM(F10:I10)) -> 0
A11: 8 | B11: =DATE($B$1,IF($E$1="marzec",3),A11) -> 43898 | C11: =IF(O11=1,"L4",IF(N11=1,"Op",IF(M11=1,"Ub",IF(L11=1,"Uok",IF(K11=1,"Uwż",IF(J11=1,"Uw",IF(P11=1,$P$3,IF(EASTERSUNDAY($B$1)=B11,"Wielkanoc",IF(C10="Wielkanoc","Święto",IF(WEEKDAY(B11)=7,"W5",IF(WEEKDAY(B11)=1,"W5",Podsumowanie!$F$19))))))))))) -> W5 | D11: =IF(O11=1,"L4",IF(N11=1,"Op",IF(M11=1,"Ub",IF(L11=1,"Uok",IF(K11=1,"Uwż",IF(J11=1,"Uw",IF(P11=1,$P$3,IF(EASTERSUNDAY($B$1)=B11,"Wielkanoc",IF(C10="Wielkanoc","Święto",IF(WEEKDAY(B11)=7,"W5",IF(WEEKDAY(B11)=1,"W5",Podsumowanie!$G$19+F11+G11+H11+I11))))))))))) -> W5 | E11: =IF(C11=Podsumowanie!$F$19,D11-C11,SUM(F11:I11)) -> 0
A12: 9 | B12: =DATE($B$1,IF($E$1="marzec",3),A12) -> 43899 | C12: =IF(O12=1,"L4",IF(N12=1,"Op",IF(M12=1,"Ub",IF(L12=1,"Uok",IF(K12=1,"Uwż",IF(J12=1,"Uw",IF(P12=1,$P$3,IF(EASTERSUNDAY($B$1)=B12,"Wielkanoc",IF(C11="Wielkanoc","Święto",IF(WEEKDAY(B12)=7,"W5",IF(WEEKDAY(B12)=1,"W5",Podsumowanie!$F$19))))))))))) -> 0.3125 | D12: =IF(O12=1,"L4",IF(N12=1,"Op",IF(M12=1,"Ub",IF(L12=1,"Uok",IF(K12=1,"Uwż",IF(J12=1,"Uw",IF(P12=1,$P$3,IF(EASTERSUNDAY($B$1)=B12,"Wielkanoc",IF(C11="Wielkanoc","Święto",IF(WEEKDAY(B12)=7,"W5",IF(WEEKDAY(B12)=1,"W5",Podsumowanie!$G$19+F12+G12+H12+I12))))))))))) -> 0.64583333 | E12: =IF(C12=Podsumowanie!$F$19,D12-C12,SUM(F12:I12)) -> 0.33333333
A13: 10 | B13: =DATE($B$1,IF($E$1="marzec",3),A13) -> 43900 | C13: =IF(O13=1,"L4",IF(N13=1,"Op",IF(M13=1,"Ub",IF(L13=1,"Uok",IF(K13=1,"Uwż",IF(J13=1,"Uw",IF(P13=1,$P$3,IF(EASTERSUNDAY($B$1)=B13,"Wielkanoc",IF(C12="Wielkanoc","Święto",IF(WEEKDAY(B13)=7,"W5",IF(WEEKDAY(B13)=1,"W5",Podsumowanie!$F$19))))))))))) -> 0.3125 | D13: =IF(O13=1,"L4",IF(N13=1,"Op",IF(M13=1,"Ub",IF(L13=1,"Uok",IF(K13=1,"Uwż",IF(J13=1,"Uw",IF(P13=1,$P$3,IF(EASTERSUNDAY($B$1)=B13,"Wielkanoc",IF(C12="Wielkanoc","Święto",IF(WEEKDAY(B13)=7,"W5",IF(WEEKDAY(B13)=1,"W5",Podsumowanie!$G$19+F13+G13+H13+I13))))))))))) -> 0.64583333 | E13: =IF(C13=Podsumowanie!$F$19,D13-C13,SUM(F13:I13)) -> 0.33333333
A14: 11 | B14: =DATE($B$1,IF($E$1="marzec",3),A14) -> 43901 | C14: =IF(O14=1,"L4",IF(N14=1,"Op",IF(M14=1,"Ub",IF(L14=1,"Uok",IF(K14=1,"Uwż",IF(J14=1,"Uw",IF(P14=1,$P$3,IF(EASTERSUNDAY($B$1)=B14,"Wielkanoc",IF(C13="Wielkanoc","Święto",IF(WEEKDAY(B14)=7,"W5",IF(WEEKDAY(B14)=1,"W5",Podsumowanie!$F$19))))))))))) -> 0.3125 | D14: =IF(O14=1,"L4",IF(N14=1,"Op",IF(M14=1,"Ub",IF(L14=1,"Uok",IF(K14=1,"Uwż",IF(J14=1,"Uw",IF(P14=1,$P$3,IF(EASTERSUNDAY($B$1)=B14,"Wielkanoc",IF(C13="Wielkanoc","Święto",IF(WEEKDAY(B14)=7,"W5",IF(WEEKDAY(B14)=1,"W5",Podsumowanie!$G$19+F14+G14+H14+I14))))))))))) -> 0.64583333 | E14: =IF(C14=Podsumowanie!$F$19,D14-C14,SUM(F14:I14)) -> 0.33333333
A15: 12 | B15: =DATE($B$1,IF($E$1="marzec",3),A15) -> 43902 | C15: =IF(O15=1,"L4",IF(N15=1,"Op",IF(M15=1,"Ub",IF(L15=1,"Uok",IF(K15=1,"Uwż",IF(J15=1,"Uw",IF(P15=1,$P$3,IF(EASTERSUNDAY($B$1)=B15,"Wielkanoc",IF(C14="Wielkanoc","Święto",IF(WEEKDAY(B15)=7,"W5",IF(WEEKDAY(B15)=1,"W5",Podsumowanie!$F$19))))))))))) -> 0.3125 | D15: =IF(O15=1,"L4",IF(N15=1,"Op",IF(M15=1,"Ub",IF(L15=1,"Uok",IF(K15=1,"Uwż",IF(J15=1,"Uw",IF(P15=1,$P$3,IF(EASTERSUNDAY($B$1)=B15,"Wielkanoc",IF(C14="Wielkanoc","Święto",IF(WEEKDAY(B15)=7,"W5",IF(WEEKDAY(B15)=1,"W5",Podsumowanie!$G$19+F15+G15+H15+I15))))))))))) -> 0.64583333 | E15: =IF(C15=Podsumowanie!$F$19,D15-C15,SUM(F15:I15)) -> 0.33333333
... A34: 31 | B34: =DATE($B$1,IF($E$1="marzec",3),A34) -> 43921 | C34: =IF(O34=1,"L4",IF(N34=1,"Op",IF(M34=1,"Ub",IF(L34=1,"Uok",IF(K34=1,"Uwż",IF(J34=1,"Uw",IF(P34=1,$P$3,IF(EASTERSUNDAY($B$1)=B34,"Wielkanoc",IF(C33="Wielkanoc","Święto",IF(WEEKDAY(B34)=7,"W5",IF(WEEKDAY(B34)=1,"W5",Podsumowanie!$F$19))))))))))) -> 0.3125 | D34: =IF(O34=1,"L4",IF(N34=1,"Op",IF(M34=1,"Ub",IF(L34=1,"Uok",IF(K34=1,"Uwż",IF(J34=1,"Uw",IF(P34=1,$P$3,IF(EASTERSUNDAY($B$1)=B34,"Wielkanoc",IF(C33="Wielkanoc","Święto",IF(WEEKDAY(B34)=7,"W5",IF(WEEKDAY(B34)=1,"W5",Podsumowanie!$G$19+F34+G34+H34+I34))))))))))) -> 0.64583333 | E34: =IF(C34=Podsumowanie!$F$19,D34-C34,SUM(F34:I34)) -> 0.33333333
D35: Razem | E35: =SUM(E4:E34) -> 7.3333333 | F35: =SUM(F4:F34) -> 0 | G35: =SUM(G4:G34) -> 0 | H35: =SUM(H4:H34) -> 0 | I35: =SUM(I4:I34) -> 0 | J35: =SUM(J4:J34) -> 0 | K35: =SUM(K4:K34) -> 0 | L35: =SUM(L4:L34) -> 0 | ... P35: =SUM(P4:P34) -> 0
A36: Uw - Urlop wypoczynkowy, Uwż - Urlop wypoczynkowy "na żądanie", Uok - Urlop okolicznościowy, Ub - Urlop bezpłatny, Op - Opieka nad dzieckiem, L4- Zwolnienie lekarskie, Dn - Wypłata nadgodzin, Wś - Wolne za pracę w święto, Wn - Wolne za nadgodziny, W5 - Wolne z tytułu 5-dniowego tygodnia pracy, W - Urlop wychowawczy, Um - Urlop macierzyński, ŚR - Świadczenia reabilitacyjne, Śs - Świadek w sądzie, Kr - Oddanie krwi.
A39: Dzień miesiąca | B39: Dzień tygodnia | C39: Godzina rozpoczęcia | D39: Godzina zakończenia
C40: Poniedziałek Wielkanocny
A43: =DCOUNTA(A3:D34, ,A39:D40) -> 0

Sheet kwiecień
A1: Rok | B1: =Podsumowanie!A2 -> 2020 | D1: Miesiąc | E1: kwiecień | G1: Imię i Nazwisko | I1: =Podsumowanie!D1 -> 0 | L1: Stanowisko | M1: =Podsumowanie!G1 -> 0 | O1: Wymiar czasu pracy
A2: Oznaczenie dni | C2: Czas Pracy | F2: Czas przepracowany w godzinach | J2: Czas nieobecności w pracy w dniach | Q2: Uwagi
A3: Dzień miesiąca | B3: Dzień tygodnia | C3: Godzina rozpoczęcia | D3: Godzina zakończenia | E3: Ilość godzin | F3: Niedziela i święta | G3: W dodatk. dni wolne | H3: W porze nocnej | I3: W godz. nadliczbowych | J3: Uw | K3: Uwż | L3: Uok | M3: Ub | N3: Op | O3: L4 | P3: Inne ….........
A4: 1 | B4: =DATE($B$1,IF($E$1="kwiecień",4),A4) -> 43922 | C4: =IF(O4=1,"L4",IF(N4=1,"Op",IF(M4=1,"Ub",IF(L4=1,"Uok",IF(K4=1,"Uwż",IF(J4=1,"Uw",IF(P4=1,$P$3,IF(EASTERSUNDAY($B$1)=B4,"Wielkanoc",IF(marzec!C34="Wielkanoc","Święto",IF(WEEKDAY(B4)=7,"W5",IF(WEEKDAY(B4)=1,"W5",Podsumowanie!F19))))))))))) -> 0.3125 | D4: =IF(O4=1,"L4",IF(N4=1,"Op",IF(M4=1,"Ub",IF(L4=1,"Uok",IF(K4=1,"Uwż",IF(J4=1,"Uw",IF(P4=1,$P$3,IF(EASTERSUNDAY($B$1)=B4,"Wielkanoc",IF(marzec!C34="Wielkanoc","święto",IF(WEEKDAY(B4)=7,"W5",IF(WEEKDAY(B4)=1,"W5",Podsumowanie!G19+F4+G4+H4+I4))))))))))) -> 0.64583333 | E4: =IF(C4=Podsumowanie!$F$19,D4-C4,SUM(F4:I4)) -> 0.33333333
A5: 2 | B5: =DATE($B$1,IF($E$1="kwiecień",4),A5) -> 43923 | C5: =IF(O5=1,"L4",IF(N5=1,"Op",IF(M5=1,"Ub",IF(L5=1,"Uok",IF(K5=1,"Uwż",IF(J5=1,"Uw",IF(P5=1,$P$3,IF(EASTERSUNDAY($B$1)=B5,"Wielkanoc",IF(C4="Wielkanoc","Świeto",IF(WEEKDAY(B5)=7,"W5",IF(WEEKDAY(B5)=1,"W5",Podsumowanie!$F$19))))))))))) -> 0.3125 | D5: =IF(O5=1,"L4",IF(N5=1,"Op",IF(M5=1,"Ub",IF(L5=1,"Uok",IF(K5=1,"Uwż",IF(J5=1,"Uw",IF(P5=1,$P$3,IF(EASTERSUNDAY($B$1)=B5,"Wielkanoc",IF(C4="Wielkanoc","Święto",IF(WEEKDAY(B5)=7,"W5",IF(WEEKDAY(B5)=1,"W5",Podsumowanie!$G$19+F5+G5+H5+I5))))))))))) -> 0.64583333 | E5: =IF(C5=Podsumowanie!$F$19,D5-C5,SUM(F5:I5)) -> 0.33333333
A6: 3 | B6: =DATE($B$1,IF($E$1="kwiecień",4),A6) -> 43924 | C6: =IF(O6=1,"L4",IF(N6=1,"Op",IF(M6=1,"Ub",IF(L6=1,"Uok",IF(K6=1,"Uwż",IF(J6=1,"Uw",IF(P6=1,$P$3,IF(EASTERSUNDAY($B$1)=B6,"Wielkanoc",IF(C5="Wielkanoc","Świeto",IF(WEEKDAY(B6)=7,"W5",IF(WEEKDAY(B6)=1,"W5",Podsumowanie!$F$19))))))))))) -> 0.3125 | D6: =IF(O6=1,"L4",IF(N6=1,"Op",IF(M6=1,"Ub",IF(L6=1,"Uok",IF(K6=1,"Uwż",IF(J6=1,"Uw",IF(P6=1,$P$3,IF(EASTERSUNDAY($B$1)=B6,"Wielkanoc",IF(C5="Wielkanoc","Święto",IF(WEEKDAY(B6)=7,"W5",IF(WEEKDAY(B6)=1,"W5",Podsumowanie!$G$19+F6+G6+H6+I6))))))))))) -> 0.64583333 | E6: =IF(C6=Podsumowanie!$F$19,D6-C6,SUM(F6:I6)) -> 0.33333333
A7: 4 | B7: =DATE($B$1,IF($E$1="kwiecień",4),A7) -> 43925 | C7: =IF(O7=1,"L4",IF(N7=1,"Op",IF(M7=1,"Ub",IF(L7=1,"Uok",IF(K7=1,"Uwż",IF(J7=1,"Uw",IF(P7=1,$P$3,IF(EASTERSUNDAY($B$1)=B7,"Wielkanoc",IF(C6="Wielkanoc","Świeto",IF(WEEKDAY(B7)=7,"W5",IF(WEEKDAY(B7)=1,"W5",Podsumowanie!$F$19))))))))))) -> W5 | D7: =IF(O7=1,"L4",IF(N7=1,"Op",IF(M7=1,"Ub",IF(L7=1,"Uok",IF(K7=1,"Uwż",IF(J7=1,"Uw",IF(P7=1,$P$3,IF(EASTERSUNDAY($B$1)=B7,"Wielkanoc",IF(C6="Wielkanoc","Święto",IF(WEEKDAY(B7)=7,"W5",IF(WEEKDAY(B7)=1,"W5",Podsumowanie!$G$19+F7+G7+H7+I7))))))))))) -> W5 | E7: =IF(C7=Podsumowanie!$F$19,D7-C7,SUM(F7:I7)) -> 0
A8: 5 | B8: =DATE($B$1,IF($E$1="kwiecień",4),A8) -> 43926 | C8: =IF(O8=1,"L4",IF(N8=1,"Op",IF(M8=1,"Ub",IF(L8=1,"Uok",IF(K8=1,"Uwż",IF(J8=1,"Uw",IF(P8=1,$P$3,IF(EASTERSUNDAY($B$1)=B8,"Wielkanoc",IF(C7="Wielkanoc","Świeto",IF(WEEKDAY(B8)=7,"W5",IF(WEEKDAY(B8)=1,"W5",Podsumowanie!$F$19))))))))))) -> W5 | D8: =IF(O8=1,"L4",IF(N8=1,"Op",IF(M8=1,"Ub",IF(L8=1,"Uok",IF(K8=1,"Uwż",IF(J8=1,"Uw",IF(P8=1,$P$3,IF(EASTERSUNDAY($B$1)=B8,"Wielkanoc",IF(C7="Wielkanoc","Święto",IF(WEEKDAY(B8)=7,"W5",IF(WEEKDAY(B8)=1,"W5",Podsumowanie!$G$19+F8+G8+H8+I8))))))))))) -> W5 | E8: =IF(C8=Podsumowanie!$F$19,D8-C8,SUM(F8:I8)) -> 0
A9: 6 | B9: =DATE($B$1,IF($E$1="kwiecień",4),A9) -> 43927 | C9: =IF(O9=1,"L4",IF(N9=1,"Op",IF(M9=1,"Ub",IF(L9=1,"Uok",IF(K9=1,"Uwż",IF(J9=1,"Uw",IF(P9=1,$P$3,IF(EASTERSUNDAY($B$1)=B9,"Wielkanoc",IF(C8="Wielkanoc","Świeto",IF(WEEKDAY(B9)=7,"W5",IF(WEEKDAY(B9)=1,"W5",Podsumowanie!$F$19))))))))))) -> 0.3125 | D9: =IF(O9=1,"L4",IF(N9=1,"Op",IF(M9=1,"Ub",IF(L9=1,"Uok",IF(K9=1,"Uwż",IF(J9=1,"Uw",IF(P9=1,$P$3,IF(EASTERSUNDAY($B$1)=B9,"Wielkanoc",IF(C8="Wielkanoc","Święto",IF(WEEKDAY(B9)=7,"W5",IF(WEEKDAY(B9)=1,"W5",Podsumowanie!$G$19+F9+G9+H9+I9))))))))))) -> 0.64583333 | E9: =IF(C9=Podsumowanie!$F$19,D9-C9,SUM(F9:I9)) -> 0.33333333
A10: 7 | B10: =DATE($B$1,IF($E$1="kwiecień",4),A10) -> 43928 | C10: =IF(O10=1,"L4",IF(N10=1,"Op",IF(M10=1,"Ub",IF(L10=1,"Uok",IF(K10=1,"Uwż",IF(J10=1,"Uw",IF(P10=1,$P$3,IF(EASTERSUNDAY($B$1)=B10,"Wielkanoc",IF(C9="Wielkanoc","Świeto",IF(WEEKDAY(B10)=7,"W5",IF(WEEKDAY(B10)=1,"W5",Podsumowanie!$F$19))))))))))) -> 0.3125 | D10: =IF(O10=1,"L4",IF(N10=1,"Op",IF(M10=1,"Ub",IF(L10=1,"Uok",IF(K10=1,"Uwż",IF(J10=1,"Uw",IF(P10=1,$P$3,IF(EASTERSUNDAY($B$1)=B10,"Wielkanoc",IF(C9="Wielkanoc","Święto",IF(WEEKDAY(B10)=7,"W5",IF(WEEKDAY(B10)=1,"W5",Podsumowanie!$G$19+F10+G10+H10+I10))))))))))) -> 0.64583333 | E10: =IF(C10=Podsumowanie!$F$19,D10-C10,SUM(F10:I10)) -> 0.33333333
A11: 8 | B11: =DATE($B$1,IF($E$1="kwiecień",4),A11) -> 43929 | C11: =IF(O11=1,"L4",IF(N11=1,"Op",IF(M11=1,"Ub",IF(L11=1,"Uok",IF(K11=1,"Uwż",IF(J11=1,"Uw",IF(P11=1,$P$3,IF(EASTERSUNDAY($B$1)=B11,"Wielkanoc",IF(C10="Wielkanoc","Świeto",IF(WEEKDAY(B11)=7,"W5",IF(WEEKDAY(B11)=1,"W5",Podsumowanie!$F$19))))))))))) -> 0.3125 | D11: =IF(O11=1,"L4",IF(N11=1,"Op",IF(M11=1,"Ub",IF(L11=1,"Uok",IF(K11=1,"Uwż",IF(J11=1,"Uw",IF(P11=1,$P$3,IF(EASTERSUNDAY($B$1)=B11,"Wielkanoc",IF(C10="Wielkanoc","Święto",IF(WEEKDAY(B11)=7,"W5",IF(WEEKDAY(B11)=1,"W5",Podsumowanie!$G$19+F11+G11+H11+I11))))))))))) -> 0.64583333 | E11: =IF(C11=Podsumowanie!$F$19,D11-C11,SUM(F11:I11)) -> 0.33333333
A12: 9 | B12: =DATE($B$1,IF($E$1="kwiecień",4),A12) -> 43930 | C12: =IF(O12=1,"L4",IF(N12=1,"Op",IF(M12=1,"Ub",IF(L12=1,"Uok",IF(K12=1,"Uwż",IF(J12=1,"Uw",IF(P12=1,$P$3,IF(EASTERSUNDAY($B$1)=B12,"Wielkanoc",IF(C11="Wielkanoc","Świeto",IF(WEEKDAY(B12)=7,"W5",IF(WEEKDAY(B12)=1,"W5",Podsumowanie!$F$19))))))))))) -> 0.3125 | D12: =IF(O12=1,"L4",IF(N12=1,"Op",IF(M12=1,"Ub",IF(L12=1,"Uok",IF(K12=1,"Uwż",IF(J12=1,"Uw",IF(P12=1,$P$3,IF(EASTERSUNDAY($B$1)=B12,"Wielkanoc",IF(C11="Wielkanoc","Święto",IF(WEEKDAY(B12)=7,"W5",IF(WEEKDAY(B12)=1,"W5",Podsumowanie!$G$19+F12+G12+H12+I12))))))))))) -> 0.64583333 | E12: =IF(C12=Podsumowanie!$F$19,D12-C12,SUM(F12:I12)) -> 0.33333333
A13: 10 | B13: =DATE($B$1,IF($E$1="kwiecień",4),A13) -> 43931 | C13: =IF(O13=1,"L4",IF(N13=1,"Op",IF(M13=1,"Ub",IF(L13=1,"Uok",IF(K13=1,"Uwż",IF(J13=1,"Uw",IF(P13=1,$P$3,IF(EASTERSUNDAY($B$1)=B13,"Wielkanoc",IF(C12="Wielkanoc","Świeto",IF(WEEKDAY(B13)=7,"W5",IF(WEEKDAY(B13)=1,"W5",Podsumowanie!$F$19))))))))))) -> 0.3125 | D13: =IF(O13=1,"L4",IF(N13=1,"Op",IF(M13=1,"Ub",IF(L13=1,"Uok",IF(K13=1,"Uwż",IF(J13=1,"Uw",IF(P13=1,$P$3,IF(EASTERSUNDAY($B$1)=B13,"Wielkanoc",IF(C12="Wielkanoc","Święto",IF(WEEKDAY(B13)=7,"W5",IF(WEEKDAY(B13)=1,"W5",Podsumowanie!$G$19+F13+G13+H13+I13))))))))))) -> 0.64583333 | E13: =IF(C13=Podsumowanie!$F$19,D13-C13,SUM(F13:I13)) -> 0.33333333
A14: 11 | B14: =DATE($B$1,IF($E$1="kwiecień",4),A14) -> 43932 | C14: =IF(O14=1,"L4",IF(N14=1,"Op",IF(M14=1,"Ub",IF(L14=1,"Uok",IF(K14=1,"Uwż",IF(J14=1,"Uw",IF(P14=1,$P$3,IF(EASTERSUNDAY($B$1)=B14,"Wielkanoc",IF(C13="Wielkanoc","Świeto",IF(WEEKDAY(B14)=7,"W5",IF(WEEKDAY(B14)=1,"W5",Podsumowanie!$F$19))))))))))) -> W5 | D14: =IF(O14=1,"L4",IF(N14=1,"Op",IF(M14=1,"Ub",IF(L14=1,"Uok",IF(K14=1,"Uwż",IF(J14=1,"Uw",IF(P14=1,$P$3,IF(EASTERSUNDAY($B$1)=B14,"Wielkanoc",IF(C13="Wielkanoc","Święto",IF(WEEKDAY(B14)=7,"W5",IF(WEEKDAY(B14)=1,"W5",Podsumowanie!$G$19+F14+G14+H14+I14))))))))))) -> W5 | E14: =IF(C14=Podsumowanie!$F$19,D14-C14,SUM(F14:I14)) -> 0
A15: 12 | B15: =DATE($B$1,IF($E$1="kwiecień",4),A15) -> 43933 | C15: =IF(O15=1,"L4",IF(N15=1,"Op",IF(M15=1,"Ub",IF(L15=1,"Uok",IF(K15=1,"Uwż",IF(J15=1,"Uw",IF(P15=1,$P$3,IF(EASTERSUNDAY($B$1)=B15,"Wielkanoc",IF(C14="Wielkanoc","Świeto",IF(WEEKDAY(B15)=7,"W5",IF(WEEKDAY(B15)=1,"W5",Podsumowanie!$F$19))))))))))) -> Wielkanoc | D15: =IF(O15=1,"L4",IF(N15=1,"Op",IF(M15=1,"Ub",IF(L15=1,"Uok",IF(K15=1,"Uwż",IF(J15=1,"Uw",IF(P15=1,$P$3,IF(EASTERSUNDAY($B$1)=B15,"Wielkanoc",IF(C14="Wielkanoc","Święto",IF(WEEKDAY(B15)=7,"W5",IF(WEEKDAY(B15)=1,"W5",Podsumowanie!$G$19+F15+G15+H15+I15))))))))))) -> Wielkanoc | E15: =IF(C15=Podsumowanie!$F$19,D15-C15,SUM(F15:I15)) -> 0
A16: 13 | B16: =DATE($B$1,IF($E$1="kwiecień",4),A16) -> 43934 | C16: =IF(O16=1,"L4",IF(N16=1,"Op",IF(M16=1,"Ub",IF(L16=1,"Uok",IF(K16=1,"Uwż",IF(J16=1,"Uw",IF(P16=1,$P$3,IF(EASTERSUNDAY($B$1)=B16,"Wielkanoc",IF(C15="Wielkanoc","Świeto",IF(WEEKDAY(B16)=7,"W5",IF(WEEKDAY(B16)=1,"W5",Podsumowanie!$F$19))))))))))) -> Świeto | D16: =IF(O16=1,"L4",IF(N16=1,"Op",IF(M16=1,"Ub",IF(L16=1,"Uok",IF(K16=1,"Uwż",IF(J16=1,"Uw",IF(P16=1,$P$3,IF(EASTERSUNDAY($B$1)=B16,"Wielkanoc",IF(C15="Wielkanoc","Święto",IF(WEEKDAY(B16)=7,"W5",IF(WEEKDAY(B16)=1,"W5",Podsumowanie!$G$19+F16+G16+H16+I16))))))))))) -> Święto | E16: =IF(C16=Podsumowanie!$F$19,D16-C16,SUM(F16:I16)) -> 0
... A33: 30 | B33: =DATE($B$1,IF($E$1="kwiecień",4),A33) -> 43951 | C33: =IF(O33=1,"L4",IF(N33=1,"Op",IF(M33=1,"Ub",IF(L33=1,"Uok",IF(K33=1,"Uwż",IF(J33=1,"Uw",IF(P33=1,$P$3,IF(EASTERSUNDAY($B$1)=B33,"Wielkanoc",IF(C32="Wielkanoc","Świeto",IF(WEEKDAY(B33)=7,"W5",IF(WEEKDAY(B33)=1,"W5",Podsumowanie!$F$19))))))))))) -> 0.3125 | D33: =IF(O33=1,"L4",IF(N33=1,"Op",IF(M33=1,"Ub",IF(L33=1,"Uok",IF(K33=1,"Uwż",IF(J33=1,"Uw",IF(P33=1,$P$3,IF(EASTERSUNDAY($B$1)=B33,"Wielkanoc",IF(C32="Wielkanoc","Święto",IF(WEEKDAY(B33)=7,"W5",IF(WEEKDAY(B33)=1,"W5",Podsumowanie!$G$19+F33+G33+H33+I33))))))))))) -> 0.64583333 | E33: =IF(C33=Podsumowanie!$F$19,D33-C33,SUM(F33:I33)) -> 0.33333333
A34: 31 | B34: =DATE($B$1,IF($E$1="kwiecień",4),A34) -> 43952
D35: Razem | E35: =SUM(E4:E34) -> 7 | F35: =SUM(F4:F34) -> 0 | G35: =SUM(G4:G34) -> 0 | H35: =SUM(H4:H34) -> 0 | I35: =SUM(I4:I34) -> 0 | J35: =SUM(J4:J34) -> 0 | K35: =SUM(K4:K34) -> 0 | L35: =SUM(L4:L34) -> 0 | ... P35: =SUM(P4:P34) -> 0
A36: Uw - Urlop wypoczynkowy, Uwż - Urlop wypoczynkowy "na żądanie", Uok - Urlop okolicznościowy, Ub - Urlop bezpłatny, Op - Opieka nad dzieckiem, L4- Zwolnienie lekarskie, Dn - Wypłata nadgodzin, Wś - Wolne za pracę w święto, Wn - Wolne za nadgodziny, W5 - Wolne z tytułu 5-dniowego tygodnia pracy, W - Urlop wychowawczy, Um - Urlop macierzyński, ŚR - Świadczenia reabilitacyjne, Śs - Świadek w sądzie, Kr - Oddanie krwi.
A39: Dzień miesiąca | B39: Dzień tygodnia | C39: Godzina rozpoczęcia | D39: Godzina zakończenia
C40: Poniedziałek Wielkanocny
A42: =DCOUNTA(A3:D33, ,A39:D40) -> 0

Sheet maj
A1: Rok | B1: =Podsumowanie!A2 -> 2020 | D1: Miesiąc | E1: Maj | G1: Imię i Nazwisko | I1: =Podsumowanie!D1 -> 0 | L1: Stanowisko | M1: =Podsumowanie!G1 -> 0 | O1: Wymiar czasu pracy
A2: Oznaczenie dni | C2: Czas Pracy | F2: Czas przepracowany w godzinach | J2: Czas nieobecności w pracy w dniach | Q2: Uwagi
A3: Dzień miesiąca | B3: Dzień tygodnia | C3: Godzina rozpoczęcia | D3: Godzina zakończenia | E3: Ilość godzin | F3: Niedziela i święta | G3: W dodatk. dni wolne | H3: W porze nocnej | I3: W godz. nadliczbowych | J3: Uw | K3: Uwż | L3: Uok | M3: Ub | N3: Op | O3: L4 | P3: Inne ….........
A4: 1 | B4: =DATE($B$1,IF($E$1="Maj",5),A4) -> 43952 | C4: Święto | D4: Święto | E4: =IF(C4=Podsumowanie!$F$19,D4-C4,SUM(F4:I4)) -> 0
A5: 2 | B5: =DATE($B$1,IF($E$1="Maj",5),A5) -> 43953 | C5: =IF(O5=1,"L4",IF(N5=1,"Op",IF(M5=1,"Ub",IF(L5=1,"Uok",IF(K5=1,"Uwż",IF(J5=1,"Uw",IF(P5=1,$P$3,IF(WEEKDAY(B5)=7,"W5",IF(WEEKDAY(B5)=1,"W5",IF(WEEKDAY(B5)=6,"DWŚ",Podsumowanie!$F$19)))))))))) -> W5 | D5: =IF(O5=1,"L4",IF(N5=1,"Op",IF(M5=1,"Ub",IF(L5=1,"Uok",IF(K5=1,"Uwż",IF(J5=1,"Uw",IF(P5=1,$P$3,IF(WEEKDAY(B5)=7,"W5",IF(WEEKDAY(B5)=1,"W5",IF(WEEKDAY(B5)=6,"DWŚ",Podsumowanie!$G$19+F5+G7+H7+I7)))))))))) -> W5 | E5: =IF(C5=Podsumowanie!$F$19,D5-C5,SUM(F5:I5)) -> 0
A6: 3 | B6: =DATE($B$1,IF($E$1="Maj",5),A6) -> 43954 | C6: Święto | D6: Święto | E6: =IF(C6=Podsumowanie!$F$19,D6-C6,SUM(F6:I6)) -> 0
A7: 4 | B7: =DATE($B$1,IF($E$1="Maj",5),A7) -> 43955 | C7: =IF(O7=1,"L4",IF(N7=1,"Op",IF(M7=1,"Ub",IF(L7=1,"Uok",IF(K7=1,"Uwż",IF(J7=1,"Uw",IF(P7=1,$P$3,IF(WEEKDAY(B7)=7,"W5",IF(WEEKDAY(B7)=1,"W5",IF(WEEKDAY(B7)=3,"DWŚ",Podsumowanie!$F$19)))))))))) -> 0.3125 | D7: =IF(O7=1,"L4",IF(N7=1,"Op",IF(M7=1,"Ub",IF(L7=1,"Uok",IF(K7=1,"Uwż",IF(J7=1,"Uw",IF(P7=1,$P$3,IF(WEEKDAY(B7)=7,"W5",IF(WEEKDAY(B7)=1,"W5",IF(WEEKDAY(B7)=3,"DWŚ",Podsumowanie!G19+F7+G7+H7+I7)))))))))) -> 0.64583333 | E7: =IF(C7=Podsumowanie!$F$19,D7-C7,SUM(F7:I7)) -> 0.33333333
A8: 5 | B8: =DATE($B$1,IF($E$1="Maj",5),A8) -> 43956 | C8: =IF(O8=1,"L4",IF(N8=1,"Op",IF(M8=1,"Ub",IF(L8=1,"Uok",IF(K8=1,"Uwż",IF(J8=1,"Uw",IF(P8=1,$P$3,IF(WEEKDAY(B8)=7,"W5",IF(WEEKDAY(B8)=1,"W5",Podsumowanie!$F$19))))))))) -> 0.3125 | D8: =IF(O8=1,"L4",IF(N8=1,"Op",IF(M8=1,"Ub",IF(L8=1,"Uok",IF(K8=1,"Uwż",IF(J8=1,"Uw",IF(P8=1,$P$3,IF(WEEKDAY(B8)=7,"W5",IF(WEEKDAY(B8)=1,"W5",Podsumowanie!$G$19+F8+G8+H8+I8))))))))) -> 0.64583333 | E8: =IF(C8=Podsumowanie!$F$19,D8-C8,SUM(F8:I8)) -> 0.33333333
A9: 6 | B9: =DATE($B$1,IF($E$1="Maj",5),A9) -> 43957 | C9: =IF(O9=1,"L4",IF(N9=1,"Op",IF(M9=1,"Ub",IF(L9=1,"Uok",IF(K9=1,"Uwż",IF(J9=1,"Uw",IF(P9=1,$P$3,IF(WEEKDAY(B9)=7,"W5",IF(WEEKDAY(B9)=1,"W5",Podsumowanie!$F$19))))))))) -> 0.3125 | D9: =IF(O9=1,"L4",IF(N9=1,"Op",IF(M9=1,"Ub",IF(L9=1,"Uok",IF(K9=1,"Uwż",IF(J9=1,"Uw",IF(P9=1,$P$3,IF(WEEKDAY(B9)=7,"W5",IF(WEEKDAY(B9)=1,"W5",Podsumowanie!$G$19+F9+G9+H9+I9))))))))) -> 0.64583333 | E9: =IF(C9=Podsumowanie!$F$19,D9-C9,SUM(F9:I9)) -> 0.33333333
A10: 7 | B10: =DATE($B$1,IF($E$1="Maj",5),A10) -> 43958 | C10: =IF(O10=1,"L4",IF(N10=1,"Op",IF(M10=1,"Ub",IF(L10=1,"Uok",IF(K10=1,"Uwż",IF(J10=1,"Uw",IF(P10=1,$P$3,IF(WEEKDAY(B10)=7,"W5",IF(WEEKDAY(B10)=1,"W5",Podsumowanie!$F$19))))))))) -> 0.3125 | D10: =IF(O10=1,"L4",IF(N10=1,"Op",IF(M10=1,"Ub",IF(L10=1,"Uok",IF(K10=1,"Uwż",IF(J10=1,"Uw",IF(P10=1,$P$3,IF(WEEKDAY(B10)=7,"W5",IF(WEEKDAY(B10)=1,"W5",Podsumowanie!$G$19+F10+G10+H10+I10))))))))) -> 0.64583333 | E10: =IF(C10=Podsumowanie!$F$19,D10-C10,SUM(F10:I10)) -> 0.33333333
A11: 8 | B11: =DATE($B$1,IF($E$1="Maj",5),A11) -> 43959 | C11: =IF(O11=1,"L4",IF(N11=1,"Op",IF(M11=1,"Ub",IF(L11=1,"Uok",IF(K11=1,"Uwż",IF(J11=1,"Uw",IF(P11=1,$P$3,IF(WEEKDAY(B11)=7,"W5",IF(WEEKDAY(B11)=1,"W5",Podsumowanie!$F$19))))))))) -> 0.3125 | D11: =IF(O11=1,"L4",IF(N11=1,"Op",IF(M11=1,"Ub",IF(L11=1,"Uok",IF(K11=1,"Uwż",IF(J11=1,"Uw",IF(P11=1,$P$3,IF(WEEKDAY(B11)=7,"W5",IF(WEEKDAY(B11)=1,"W5",Podsumowanie!$G$19+F11+G11+H11+I11))))))))) -> 0.64583333 | E11: =IF(C11=Podsumowanie!$F$19,D11-C11,SUM(F11:I11)) -> 0.33333333
A12: 9 | B12: =DATE($B$1,IF($E$1="Maj",5),A12) -> 43960 | C12: =IF(O12=1,"L4",IF(N12=1,"Op",IF(M12=1,"Ub",IF(L12=1,"Uok",IF(K12=1,"Uwż",IF(J12=1,"Uw",IF(P12=1,$P$3,IF(WEEKDAY(B12)=7,"W5",IF(WEEKDAY(B12)=1,"W5",Podsumowanie!$F$19))))))))) -> W5 | D12: =IF(O12=1,"L4",IF(N12=1,"Op",IF(M12=1,"Ub",IF(L12=1,"Uok",IF(K12=1,"Uwż",IF(J12=1,"Uw",IF(P12=1,$P$3,IF(WEEKDAY(B12)=7,"W5",IF(WEEKDAY(B12)=1,"W5",Podsumowanie!$G$19+F12+G12+H12+I12))))))))) -> W5 | E12: =IF(C12=Podsumowanie!$F$19,D12-C12,SUM(F12:I12)) -> 0
A13: 10 | B13: =DATE($B$1,IF($E$1="Maj",5),A13) -> 43961 | C13: =IF(O13=1,"L4",IF(N13=1,"Op",IF(M13=1,"Ub",IF(L13=1,"Uok",IF(K13=1,"Uwż",IF(J13=1,"Uw",IF(P13=1,$P$3,IF(WEEKDAY(B13)=7,"W5",IF(WEEKDAY(B13)=1,"W5",Podsumowanie!$F$19))))))))) -> W5 | D13: =IF(O13=1,"L4",IF(N13=1,"Op",IF(M13=1,"Ub",IF(L13=1,"Uok",IF(K13=1,"Uwż",IF(J13=1,"Uw",IF(P13=1,$P$3,IF(WEEKDAY(B13)=7,"W5",IF(WEEKDAY(B13)=1,"W5",Podsumowanie!$G$19+F13+G13+H13+I13))))))))) -> W5 | E13: =IF(C13=Podsumowanie!$F$19,D13-C13,SUM(F13:I13)) -> 0
A14: 11 | B14: =DATE($B$1,IF($E$1="Maj",5),A14) -> 43962 | C14: =IF(O14=1,"L4",IF(N14=1,"Op",IF(M14=1,"Ub",IF(L14=1,"Uok",IF(K14=1,"Uwż",IF(J14=1,"Uw",IF(P14=1,$P$3,IF(WEEKDAY(B14)=7,"W5",IF(WEEKDAY(B14)=1,"W5",Podsumowanie!$F$19))))))))) -> 0.3125 | D14: =IF(O14=1,"L4",IF(N14=1,"Op",IF(M14=1,"Ub",IF(L14=1,"Uok",IF(K14=1,"Uwż",IF(J14=1,"Uw",IF(P14=1,$P$3,IF(WEEKDAY(B14)=7,"W5",IF(WEEKDAY(B14)=1,"W5",Podsumowanie!$G$19+F14+G14+H14+I14))))))))) -> 0.64583333 | E14: =IF(C14=Podsumowanie!$F$19,D14-C14,SUM(F14:I14)) -> 0.33333333
A15: 12 | B15: =DATE($B$1,IF($E$1="Maj",5),A15) -> 43963 | C15: =IF(O15=1,"L4",IF(N15=1,"Op",IF(M15=1,"Ub",IF(L15=1,"Uok",IF(K15=1,"Uwż",IF(J15=1,"Uw",IF(P15=1,$P$3,IF(WEEKDAY(B15)=7,"W5",IF(WEEKDAY(B15)=1,"W5",Podsumowanie!$F$19))))))))) -> 0.3125 | D15: =IF(O15=1,"L4",IF(N15=1,"Op",IF(M15=1,"Ub",IF(L15=1,"Uok",IF(K15=1,"Uwż",IF(J15=1,"Uw",IF(P15=1,$P$3,IF(WEEKDAY(B15)=7,"W5",IF(WEEKDAY(B15)=1,"W5",Podsumowanie!$G$19+F15+G15+H15+I15))))))))) -> 0.64583333 | E15: =IF(C15=Podsumowanie!$F$19,D15-C15,SUM(F15:I15)) -> 0.33333333
A16: 13 | B16: =DATE($B$1,IF($E$1="Maj",5),A16) -> 43964 | C16: =IF(O16=1,"L4",IF(N16=1,"Op",IF(M16=1,"Ub",IF(L16=1,"Uok",IF(K16=1,"Uwż",IF(J16=1,"Uw",IF(P16=1,$P$3,IF(WEEKDAY(B16)=7,"W5",IF(WEEKDAY(B16)=1,"W5",Podsumowanie!$F$19))))))))) -> 0.3125 | D16: =IF(O16=1,"L4",IF(N16=1,"Op",IF(M16=1,"Ub",IF(L16=1,"Uok",IF(K16=1,"Uwż",IF(J16=1,"Uw",IF(P16=1,$P$3,IF(WEEKDAY(B16)=7,"W5",IF(WEEKDAY(B16)=1,"W5",Podsumowanie!$G$19+F16+G16+H16+I16))))))))) -> 0.64583333 | E16: =IF(C16=Podsumowanie!$F$19,D16-C16,SUM(F16:I16)) -> 0.33333333
A17: 14 | B17: =DATE($B$1,IF($E$1="Maj",5),A17) -> 43965 | C17: =IF(O17=1,"L4",IF(N17=1,"Op",IF(M17=1,"Ub",IF(L17=1,"Uok",IF(K17=1,"Uwż",IF(J17=1,"Uw",IF(P17=1,$P$3,IF(WEEKDAY(B17)=7,"W5",IF(WEEKDAY(B17)=1,"W5",Podsumowanie!$F$19))))))))) -> 0.3125 | D17: =IF(O17=1,"L4",IF(N17=1,"Op",IF(M17=1,"Ub",IF(L17=1,"Uok",IF(K17=1,"Uwż",IF(J17=1,"Uw",IF(P17=1,$P$3,IF(WEEKDAY(B17)=7,"W5",IF(WEEKDAY(B17)=1,"W5",Podsumowanie!$G$19+F17+G17+H17+I17))))))))) -> 0.64583333 | E17: =IF(C17=Podsumowanie!$F$19,D17-C17,SUM(F17:I17)) -> 0.33333333
A18: 15 | B18: =DATE($B$1,IF($E$1="Maj",5),A18) -> 43966 | C18: =IF(O18=1,"L4",IF(N18=1,"Op",IF(M18=1,"Ub",IF(L18=1,"Uok",IF(K18=1,"Uwż",IF(J18=1,"Uw",IF(P18=1,$P$3,IF(WEEKDAY(B18)=7,"W5",IF(WEEKDAY(B18)=1,"W5",Podsumowanie!$F$19))))))))) -> 0.3125 | D18: =IF(O18=1,"L4",IF(N18=1,"Op",IF(M18=1,"Ub",IF(L18=1,"Uok",IF(K18=1,"Uwż",IF(J18=1,"Uw",IF(P18=1,$P$3,IF(WEEKDAY(B18)=7,"W5",IF(WEEKDAY(B18)=1,"W5",Podsumowanie!$G$19+F18+G18+H18+I18))))))))) -> 0.64583333 | E18: =IF(C18=Podsumowanie!$F$19,D18-C18,SUM(F18:I18)) -> 0.33333333
A19: 16 | B19: =DATE($B$1,IF($E$1="Maj",5),A19) -> 43967 | C19: =IF(O19=1,"L4",IF(N19=1,"Op",IF(M19=1,"Ub",IF(L19=1,"Uok",IF(K19=1,"Uwż",IF(J19=1,"Uw",IF(P19=1,$P$3,IF(WEEKDAY(B19)=7,"W5",IF(WEEKDAY(B19)=1,"W5",Podsumowanie!$F$19))))))))) -> W5 | D19: =IF(O19=1,"L4",IF(N19=1,"Op",IF(M19=1,"Ub",IF(L19=1,"Uok",IF(K19=1,"Uwż",IF(J19=1,"Uw",IF(P19=1,$P$3,IF(WEEKDAY(B19)=7,"W5",IF(WEEKDAY(B19)=1,"W5",Podsumowanie!$G$19+F19+G19+H19+I19))))))))) -> W5 | E19: =IF(C19=Podsumowanie!$F$19,D19-C19,SUM(F19:I19)) -> 0
... A22: 19 | B22: =DATE($B$1,IF($E$1="Maj",5),A22) -> 43970 | C22: =IF(O22=1,"L4",IF(N22=1,"Op",IF(M22=1,"Ub",IF(L22=1,"Uok",IF(K22=1,"Uwż",IF(J22=1,"Uw",IF(P22=1,$P$3,IF(WEEKDAY(B22)=7,"W5",IF(WEEKDAY(B22)=1,"W5",Podsumowanie!$F$19))))))))) -> 0.3125 | D22: =IF(O22=1,"L4",IF(N22=1,"Op",IF(M22=1,"Ub",IF(L22=1,"Uok",IF(K22=1,"Uwż",IF(J22=1,"Uw",IF(P22=1,$P$3,IF(WEEKDAY(B22)=7,"W5",IF(WEEKDAY(B22)=1,"W5",Podsumowanie!$G$19+F22+G22+H22+I22))))))))) -> 0.64583333 | E22: =IF(C22=Podsumowanie!$F$19,D22-C22,SUM(F22:I22)) -> 0.33333333
A23: 20 | B23: =DATE($B$1,IF($E$1="Maj",5),A23) -> 43971 | C23: =IF(O23=1,"L4",IF(N23=1,"Op",IF(M23=1,"Ub",IF(L23=1,"Uok",IF(K23=1,"Uwż",IF(J23=1,"Uw",IF(P23=1,$P$3,IF(B23-EASTERSUNDAY($B$1)=60,"Boże Ciało",(IF(WEEKDAY(B23)=7,"W5",IF(WEEKDAY(B23)=1,"W5",Podsumowanie!$F$19))))))))))) -> 0.3125 | D23: =IF(O23=1,"L4",IF(N23=1,"Op",IF(M23=1,"Ub",IF(L23=1,"Uok",IF(K23=1,"Uwż",IF(J23=1,"Uw",IF(P23=1,$P$3,IF(C23="Boże Ciało","Boże Ciało",IF(WEEKDAY(B23)=7,"W5",IF(WEEKDAY(B23)=1,"W5",Podsumowanie!$G$19+F23+G23+H23+I23)))))))))) -> 0.64583333 | E23: =IF(C23=Podsumowanie!$F$19,D23-C23,SUM(F23:I23)) -> 0.33333333
A24: 21 | B24: =DATE($B$1,IF($E$1="Maj",5),A24) -> 43972 | C24: =IF(O24=1,"L4",IF(N24=1,"Op",IF(M24=1,"Ub",IF(L24=1,"Uok",IF(K24=1,"Uwż",IF(J24=1,"Uw",IF(P24=1,$P$3,IF(B24-EASTERSUNDAY($B$1)=60,"Boże Ciało",(IF(WEEKDAY(B24)=7,"W5",IF(WEEKDAY(B24)=1,"W5",Podsumowanie!$F$19))))))))))) -> 0.3125 | D24: =IF(O24=1,"L4",IF(N24=1,"Op",IF(M24=1,"Ub",IF(L24=1,"Uok",IF(K24=1,"Uwż",IF(J24=1,"Uw",IF(P24=1,$P$3,IF(C24="Boże Ciało","Boże Ciało",IF(WEEKDAY(B24)=7,"W5",IF(WEEKDAY(B24)=1,"W5",Podsumowanie!$G$19+F24+G24+H24+I24)))))))))) -> 0.64583333 | E24: =IF(C24=Podsumowanie!$F$19,D24-C24,SUM(F24:I24)) -> 0.33333333
A25: 22 | B25: =DATE($B$1,IF($E$1="Maj",5),A25) -> 43973 | C25: =IF(O25=1,"L4",IF(N25=1,"Op",IF(M25=1,"Ub",IF(L25=1,"Uok",IF(K25=1,"Uwż",IF(J25=1,"Uw",IF(P25=1,$P$3,IF(B25-EASTERSUNDAY($B$1)=60,"Boże Ciało",(IF(WEEKDAY(B25)=7,"W5",IF(WEEKDAY(B25)=1,"W5",Podsumowanie!$F$19))))))))))) -> 0.3125 | D25: =IF(O25=1,"L4",IF(N25=1,"Op",IF(M25=1,"Ub",IF(L25=1,"Uok",IF(K25=1,"Uwż",IF(J25=1,"Uw",IF(P25=1,$P$3,IF(C25="Boże Ciało","Boże Ciało",IF(WEEKDAY(B25)=7,"W5",IF(WEEKDAY(B25)=1,"W5",Podsumowanie!$G$19+F25+G25+H25+I25)))))))))) -> 0.64583333 | E25: =IF(C25=Podsumowanie!$F$19,D25-C25,SUM(F25:I25)) -> 0.33333333
A26: 23 | B26: =DATE($B$1,IF($E$1="Maj",5),A26) -> 43974 | C26: =IF(O26=1,"L4",IF(N26=1,"Op",IF(M26=1,"Ub",IF(L26=1,"Uok",IF(K26=1,"Uwż",IF(J26=1,"Uw",IF(P26=1,$P$3,IF(B26-EASTERSUNDAY($B$1)=60,"Boże Ciało",(IF(WEEKDAY(B26)=7,"W5",IF(WEEKDAY(B26)=1,"W5",Podsumowanie!$F$19))))))))))) -> W5 | D26: =IF(O26=1,"L4",IF(N26=1,"Op",IF(M26=1,"Ub",IF(L26=1,"Uok",IF(K26=1,"Uwż",IF(J26=1,"Uw",IF(P26=1,$P$3,IF(C26="Boże Ciało","Boże Ciało",IF(WEEKDAY(B26)=7,"W5",IF(WEEKDAY(B26)=1,"W5",Podsumowanie!$G$19+F26+G26+H26+I26)))))))))) -> W5 | E26: =IF(C26=Podsumowanie!$F$19,D26-C26,SUM(F26:I26)) -> 0
A27: 24 | B27: =DATE($B$1,IF($E$1="Maj",5),A27) -> 43975 | C27: =IF(O27=1,"L4",IF(N27=1,"Op",IF(M27=1,"Ub",IF(L27=1,"Uok",IF(K27=1,"Uwż",IF(J27=1,"Uw",IF(P27=1,$P$3,IF(B27-EASTERSUNDAY($B$1)=60,"Boże Ciało",(IF(WEEKDAY(B27)=7,"W5",IF(WEEKDAY(B27)=1,"W5",Podsumowanie!$F$19))))))))))) -> W5 | D27: =IF(O27=1,"L4",IF(N27=1,"Op",IF(M27=1,"Ub",IF(L27=1,"Uok",IF(K27=1,"Uwż",IF(J27=1,"Uw",IF(P27=1,$P$3,IF(C27="Boże Ciało","Boże Ciało",IF(WEEKDAY(B27)=7,"W5",IF(WEEKDAY(B27)=1,"W5",Podsumowanie!$G$19+F27+G27+H27+I27)))))))))) -> W5 | E27: =IF(C27=Podsumowanie!$F$19,D27-C27,SUM(F27:I27)) -> 0
A28: 25 | B28: =DATE($B$1,IF($E$1="Maj",5),A28) -> 43976 | C28: =IF(O28=1,"L4",IF(N28=1,"Op",IF(M28=1,"Ub",IF(L28=1,"Uok",IF(K28=1,"Uwż",IF(J28=1,"Uw",IF(P28=1,$P$3,IF(B28-EASTERSUNDAY($B$1)=60,"Boże Ciało",(IF(WEEKDAY(B28)=7,"W5",IF(WEEKDAY(B28)=1,"W5",Podsumowanie!$F$19))))))))))) -> 0.3125 | D28: =IF(O28=1,"L4",IF(N28=1,"Op",IF(M28=1,"Ub",IF(L28=1,"Uok",IF(K28=1,"Uwż",IF(J28=1,"Uw",IF(P28=1,$P$3,IF(C28="Boże Ciało","Boże Ciało",IF(WEEKDAY(B28)=7,"W5",IF(WEEKDAY(B28)=1,"W5",Podsumowanie!$G$19+F28+G28+H28+I28)))))))))) -> 0.64583333 | E28: =IF(C28=Podsumowanie!$F$19,D28-C28,SUM(F28:I28)) -> 0.33333333
A29: 26 | B29: =DATE($B$1,IF($E$1="Maj",5),A29) -> 43977 | C29: =IF(O29=1,"L4",IF(N29=1,"Op",IF(M29=1,"Ub",IF(L29=1,"Uok",IF(K29=1,"Uwż",IF(J29=1,"Uw",IF(P29=1,$P$3,IF(B29-EASTERSUNDAY($B$1)=60,"Boże Ciało",(IF(WEEKDAY(B29)=7,"W5",IF(WEEKDAY(B29)=1,"W5",Podsumowanie!$F$19))))))))))) -> 0.3125 | D29: =IF(O29=1,"L4",IF(N29=1,"Op",IF(M29=1,"Ub",IF(L29=1,"Uok",IF(K29=1,"Uwż",IF(J29=1,"Uw",IF(P29=1,$P$3,IF(C29="Boże Ciało","Boże Ciało",IF(WEEKDAY(B29)=7,"W5",IF(WEEKDAY(B29)=1,"W5",Podsumowanie!$G$19+F29+G29+H29+I29)))))))))) -> 0.64583333 | E29: =IF(C29=Podsumowanie!$F$19,D29-C29,SUM(F29:I29)) -> 0.33333333
A30: 27 | B30: =DATE($B$1,IF($E$1="Maj",5),A30) -> 43978 | C30: =IF(O30=1,"L4",IF(N30=1,"Op",IF(M30=1,"Ub",IF(L30=1,"Uok",IF(K30=1,"Uwż",IF(J30=1,"Uw",IF(P30=1,$P$3,IF(B30-EASTERSUNDAY($B$1)=60,"Boże Ciało",(IF(WEEKDAY(B30)=7,"W5",IF(WEEKDAY(B30)=1,"W5",Podsumowanie!$F$19))))))))))) -> 0.3125 | D30: =IF(O30=1,"L4",IF(N30=1,"Op",IF(M30=1,"Ub",IF(L30=1,"Uok",IF(K30=1,"Uwż",IF(J30=1,"Uw",IF(P30=1,$P$3,IF(C30="Boże Ciało","Boże Ciało",IF(WEEKDAY(B30)=7,"W5",IF(WEEKDAY(B30)=1,"W5",Podsumowanie!$G$19+F30+G30+H30+I30)))))))))) -> 0.64583333 | E30: =IF(C30=Podsumowanie!$F$19,D30-C30,SUM(F30:I30)) -> 0.33333333
A31: 28 | B31: =DATE($B$1,IF($E$1="Maj",5),A31) -> 43979 | C31: =IF(O31=1,"L4",IF(N31=1,"Op",IF(M31=1,"Ub",IF(L31=1,"Uok",IF(K31=1,"Uwż",IF(J31=1,"Uw",IF(P31=1,$P$3,IF(B31-EASTERSUNDAY($B$1)=60,"Boże Ciało",(IF(WEEKDAY(B31)=7,"W5",IF(WEEKDAY(B31)=1,"W5",Podsumowanie!$F$19))))))))))) -> 0.3125 | D31: =IF(O31=1,"L4",IF(N31=1,"Op",IF(M31=1,"Ub",IF(L31=1,"Uok",IF(K31=1,"Uwż",IF(J31=1,"Uw",IF(P31=1,$P$3,IF(C31="Boże Ciało","Boże Ciało",IF(WEEKDAY(B31)=7,"W5",IF(WEEKDAY(B31)=1,"W5",Podsumowanie!$G$19+F31+G31+H31+I31)))))))))) -> 0.64583333 | E31: =IF(C31=Podsumowanie!$F$19,D31-C31,SUM(F31:I31)) -> 0.33333333
A32: 29 | B32: =DATE($B$1,IF($E$1="Maj",5),A32) -> 43980 | C32: =IF(O32=1,"L4",IF(N32=1,"Op",IF(M32=1,"Ub",IF(L32=1,"Uok",IF(K32=1,"Uwż",IF(J32=1,"Uw",IF(P32=1,$P$3,IF(B32-EASTERSUNDAY($B$1)=60,"Boże Ciało",(IF(WEEKDAY(B32)=7,"W5",IF(WEEKDAY(B32)=1,"W5",Podsumowanie!$F$19))))))))))) -> 0.3125 | D32: =IF(O32=1,"L4",IF(N32=1,"Op",IF(M32=1,"Ub",IF(L32=1,"Uok",IF(K32=1,"Uwż",IF(J32=1,"Uw",IF(P32=1,$P$3,IF(C32="Boże Ciało","Boże Ciało",IF(WEEKDAY(B32)=7,"W5",IF(WEEKDAY(B32)=1,"W5",Podsumowanie!$G$19+F32+G32+H32+I32)))))))))) -> 0.64583333 | E32: =IF(C32=Podsumowanie!$F$19,D32-C32,SUM(F32:I32)) -> 0.33333333
